BEGIN:VCALENDAR
VERSION:2.0
PRODID:-//Crofton Park Baptist Church - ECPv6.15.20//NONSGML v1.0//EN
CALSCALE:GREGORIAN
METHOD:PUBLISH
X-ORIGINAL-URL:https://croftonpark.org.uk
X-WR-CALDESC:Events for Crofton Park Baptist Church
REFRESH-INTERVAL;VALUE=DURATION:PT1H
X-Robots-Tag:noindex
X-PUBLISHED-TTL:PT1H
BEGIN:VTIMEZONE
TZID:Europe/London
BEGIN:DAYLIGHT
TZOFFSETFROM:+0000
TZOFFSETTO:+0100
TZNAME:BST
DTSTART:20260329T010000
END:DAYLIGHT
BEGIN:STANDARD
TZOFFSETFROM:+0100
TZOFFSETTO:+0000
TZNAME:GMT
DTSTART:20261025T010000
END:STANDARD
BEGIN:DAYLIGHT
TZOFFSETFROM:+0000
TZOFFSETTO:+0100
TZNAME:BST
DTSTART:20270328T010000
END:DAYLIGHT
BEGIN:STANDARD
TZOFFSETFROM:+0100
TZOFFSETTO:+0000
TZNAME:GMT
DTSTART:20271031T010000
END:STANDARD
BEGIN:DAYLIGHT
TZOFFSETFROM:+0000
TZOFFSETTO:+0100
TZNAME:BST
DTSTART:20280326T010000
END:DAYLIGHT
BEGIN:STANDARD
TZOFFSETFROM:+0100
TZOFFSETTO:+0000
TZNAME:GMT
DTSTART:20281029T010000
END:STANDARD
BEGIN:DAYLIGHT
TZOFFSETFROM:+0000
TZOFFSETTO:+0100
TZNAME:BST
DTSTART:20290325T010000
END:DAYLIGHT
BEGIN:STANDARD
TZOFFSETFROM:+0100
TZOFFSETTO:+0000
TZNAME:GMT
DTSTART:20291028T010000
END:STANDARD
END:VTIMEZONE
BEGIN:VEVENT
DTSTART;TZID=Europe/London:20270811T193000
DTEND;TZID=Europe/London:20270811T210000
DTSTAMP:20260421T224950
CREATED:20240515T132203Z
LAST-MODIFIED:20240515T142847Z
UID:10000220-1818012600-1818018000@croftonpark.org.uk
SUMMARY:Bible study
DESCRIPTION:We meet every Wednesday evening in the church lounge for Bible study and fellowship. Except for the last Wednesday of the month when we gather for a prayer meeting. Please join us as we interrogate the scriptures and study the Word. All are welcome.
URL:https://croftonpark.org.uk/event/bible-study/2027-08-11/
LOCATION:Church lounge\, 154 Brockley Grove\, London\, SE4 1EB\, United Kingdom
CATEGORIES:Meeting
ATTACH;FMTTYPE=image/jpeg:https://croftonpark.org.uk/wp-content/uploads/2019/09/Salt-and-Light.jpg
END:VEVENT
BEGIN:VEVENT
DTSTART;TZID=Europe/London:20270814T103000
DTEND;TZID=Europe/London:20270814T120000
DTSTAMP:20260421T224950
CREATED:20240515T132444Z
LAST-MODIFIED:20250201T163453Z
UID:10000367-1818239400-1818244800@croftonpark.org.uk
SUMMARY:Monthly Saturday prayer meeting
DESCRIPTION:We meet in the lounge on the second Saturday of every month to prayer\, sing and meditate on scripture. Why not join us for a few hours of quiet fellowship in friendly company. We start at 10:30 and finish just before midday.
URL:https://croftonpark.org.uk/event/monthly-saturday-prayer-meeting/2027-08-14/
LOCATION:Crofton Park Baptist Church\, 154 Brockley Grove\, London\, SE4 1EB\, United Kingdom
CATEGORIES:Meeting
ORGANIZER;CN="Judith Seymour":MAILTO:judithseymour@hotmail.co.uk
END:VEVENT
BEGIN:VEVENT
DTSTART;TZID=Europe/London:20270818T193000
DTEND;TZID=Europe/London:20270818T210000
DTSTAMP:20260421T224950
CREATED:20240515T132203Z
LAST-MODIFIED:20240515T142847Z
UID:10000221-1818617400-1818622800@croftonpark.org.uk
SUMMARY:Bible study
DESCRIPTION:We meet every Wednesday evening in the church lounge for Bible study and fellowship. Except for the last Wednesday of the month when we gather for a prayer meeting. Please join us as we interrogate the scriptures and study the Word. All are welcome.
URL:https://croftonpark.org.uk/event/bible-study/2027-08-18/
LOCATION:Church lounge\, 154 Brockley Grove\, London\, SE4 1EB\, United Kingdom
CATEGORIES:Meeting
ATTACH;FMTTYPE=image/jpeg:https://croftonpark.org.uk/wp-content/uploads/2019/09/Salt-and-Light.jpg
END:VEVENT
BEGIN:VEVENT
DTSTART;TZID=Europe/London:20270901T193000
DTEND;TZID=Europe/London:20270901T210000
DTSTAMP:20260421T224950
CREATED:20240515T132203Z
LAST-MODIFIED:20240515T142847Z
UID:10000222-1819827000-1819832400@croftonpark.org.uk
SUMMARY:Bible study
DESCRIPTION:We meet every Wednesday evening in the church lounge for Bible study and fellowship. Except for the last Wednesday of the month when we gather for a prayer meeting. Please join us as we interrogate the scriptures and study the Word. All are welcome.
URL:https://croftonpark.org.uk/event/bible-study/2027-09-01/
LOCATION:Church lounge\, 154 Brockley Grove\, London\, SE4 1EB\, United Kingdom
CATEGORIES:Meeting
ATTACH;FMTTYPE=image/jpeg:https://croftonpark.org.uk/wp-content/uploads/2019/09/Salt-and-Light.jpg
END:VEVENT
BEGIN:VEVENT
DTSTART;TZID=Europe/London:20270908T193000
DTEND;TZID=Europe/London:20270908T210000
DTSTAMP:20260421T224950
CREATED:20240515T132203Z
LAST-MODIFIED:20240515T142847Z
UID:10000223-1820431800-1820437200@croftonpark.org.uk
SUMMARY:Bible study
DESCRIPTION:We meet every Wednesday evening in the church lounge for Bible study and fellowship. Except for the last Wednesday of the month when we gather for a prayer meeting. Please join us as we interrogate the scriptures and study the Word. All are welcome.
URL:https://croftonpark.org.uk/event/bible-study/2027-09-08/
LOCATION:Church lounge\, 154 Brockley Grove\, London\, SE4 1EB\, United Kingdom
CATEGORIES:Meeting
ATTACH;FMTTYPE=image/jpeg:https://croftonpark.org.uk/wp-content/uploads/2019/09/Salt-and-Light.jpg
END:VEVENT
BEGIN:VEVENT
DTSTART;TZID=Europe/London:20270911T103000
DTEND;TZID=Europe/London:20270911T120000
DTSTAMP:20260421T224950
CREATED:20240515T132444Z
LAST-MODIFIED:20250201T163453Z
UID:10000368-1820658600-1820664000@croftonpark.org.uk
SUMMARY:Monthly Saturday prayer meeting
DESCRIPTION:We meet in the lounge on the second Saturday of every month to prayer\, sing and meditate on scripture. Why not join us for a few hours of quiet fellowship in friendly company. We start at 10:30 and finish just before midday.
URL:https://croftonpark.org.uk/event/monthly-saturday-prayer-meeting/2027-09-11/
LOCATION:Crofton Park Baptist Church\, 154 Brockley Grove\, London\, SE4 1EB\, United Kingdom
CATEGORIES:Meeting
ORGANIZER;CN="Judith Seymour":MAILTO:judithseymour@hotmail.co.uk
END:VEVENT
BEGIN:VEVENT
DTSTART;TZID=Europe/London:20270915T193000
DTEND;TZID=Europe/London:20270915T210000
DTSTAMP:20260421T224950
CREATED:20240515T132203Z
LAST-MODIFIED:20240515T142847Z
UID:10000224-1821036600-1821042000@croftonpark.org.uk
SUMMARY:Bible study
DESCRIPTION:We meet every Wednesday evening in the church lounge for Bible study and fellowship. Except for the last Wednesday of the month when we gather for a prayer meeting. Please join us as we interrogate the scriptures and study the Word. All are welcome.
URL:https://croftonpark.org.uk/event/bible-study/2027-09-15/
LOCATION:Church lounge\, 154 Brockley Grove\, London\, SE4 1EB\, United Kingdom
CATEGORIES:Meeting
ATTACH;FMTTYPE=image/jpeg:https://croftonpark.org.uk/wp-content/uploads/2019/09/Salt-and-Light.jpg
END:VEVENT
BEGIN:VEVENT
DTSTART;TZID=Europe/London:20270922T193000
DTEND;TZID=Europe/London:20270922T210000
DTSTAMP:20260421T224950
CREATED:20240515T132203Z
LAST-MODIFIED:20240515T142847Z
UID:10000225-1821641400-1821646800@croftonpark.org.uk
SUMMARY:Bible study
DESCRIPTION:We meet every Wednesday evening in the church lounge for Bible study and fellowship. Except for the last Wednesday of the month when we gather for a prayer meeting. Please join us as we interrogate the scriptures and study the Word. All are welcome.
URL:https://croftonpark.org.uk/event/bible-study/2027-09-22/
LOCATION:Church lounge\, 154 Brockley Grove\, London\, SE4 1EB\, United Kingdom
CATEGORIES:Meeting
ATTACH;FMTTYPE=image/jpeg:https://croftonpark.org.uk/wp-content/uploads/2019/09/Salt-and-Light.jpg
END:VEVENT
BEGIN:VEVENT
DTSTART;TZID=Europe/London:20271006T193000
DTEND;TZID=Europe/London:20271006T210000
DTSTAMP:20260421T224950
CREATED:20240515T132203Z
LAST-MODIFIED:20240515T142847Z
UID:10000226-1822851000-1822856400@croftonpark.org.uk
SUMMARY:Bible study
DESCRIPTION:We meet every Wednesday evening in the church lounge for Bible study and fellowship. Except for the last Wednesday of the month when we gather for a prayer meeting. Please join us as we interrogate the scriptures and study the Word. All are welcome.
URL:https://croftonpark.org.uk/event/bible-study/2027-10-06/
LOCATION:Church lounge\, 154 Brockley Grove\, London\, SE4 1EB\, United Kingdom
CATEGORIES:Meeting
ATTACH;FMTTYPE=image/jpeg:https://croftonpark.org.uk/wp-content/uploads/2019/09/Salt-and-Light.jpg
END:VEVENT
BEGIN:VEVENT
DTSTART;TZID=Europe/London:20271009T103000
DTEND;TZID=Europe/London:20271009T120000
DTSTAMP:20260421T224950
CREATED:20240515T132444Z
LAST-MODIFIED:20250201T163453Z
UID:10000369-1823077800-1823083200@croftonpark.org.uk
SUMMARY:Monthly Saturday prayer meeting
DESCRIPTION:We meet in the lounge on the second Saturday of every month to prayer\, sing and meditate on scripture. Why not join us for a few hours of quiet fellowship in friendly company. We start at 10:30 and finish just before midday.
URL:https://croftonpark.org.uk/event/monthly-saturday-prayer-meeting/2027-10-09/
LOCATION:Crofton Park Baptist Church\, 154 Brockley Grove\, London\, SE4 1EB\, United Kingdom
CATEGORIES:Meeting
ORGANIZER;CN="Judith Seymour":MAILTO:judithseymour@hotmail.co.uk
END:VEVENT
BEGIN:VEVENT
DTSTART;TZID=Europe/London:20271013T193000
DTEND;TZID=Europe/London:20271013T210000
DTSTAMP:20260421T224950
CREATED:20240515T132203Z
LAST-MODIFIED:20240515T142847Z
UID:10000227-1823455800-1823461200@croftonpark.org.uk
SUMMARY:Bible study
DESCRIPTION:We meet every Wednesday evening in the church lounge for Bible study and fellowship. Except for the last Wednesday of the month when we gather for a prayer meeting. Please join us as we interrogate the scriptures and study the Word. All are welcome.
URL:https://croftonpark.org.uk/event/bible-study/2027-10-13/
LOCATION:Church lounge\, 154 Brockley Grove\, London\, SE4 1EB\, United Kingdom
CATEGORIES:Meeting
ATTACH;FMTTYPE=image/jpeg:https://croftonpark.org.uk/wp-content/uploads/2019/09/Salt-and-Light.jpg
END:VEVENT
BEGIN:VEVENT
DTSTART;TZID=Europe/London:20271020T193000
DTEND;TZID=Europe/London:20271020T210000
DTSTAMP:20260421T224950
CREATED:20240515T132203Z
LAST-MODIFIED:20240515T142847Z
UID:10000228-1824060600-1824066000@croftonpark.org.uk
SUMMARY:Bible study
DESCRIPTION:We meet every Wednesday evening in the church lounge for Bible study and fellowship. Except for the last Wednesday of the month when we gather for a prayer meeting. Please join us as we interrogate the scriptures and study the Word. All are welcome.
URL:https://croftonpark.org.uk/event/bible-study/2027-10-20/
LOCATION:Church lounge\, 154 Brockley Grove\, London\, SE4 1EB\, United Kingdom
CATEGORIES:Meeting
ATTACH;FMTTYPE=image/jpeg:https://croftonpark.org.uk/wp-content/uploads/2019/09/Salt-and-Light.jpg
END:VEVENT
BEGIN:VEVENT
DTSTART;TZID=Europe/London:20271103T193000
DTEND;TZID=Europe/London:20271103T210000
DTSTAMP:20260421T224950
CREATED:20240515T132203Z
LAST-MODIFIED:20240515T142847Z
UID:10000229-1825270200-1825275600@croftonpark.org.uk
SUMMARY:Bible study
DESCRIPTION:We meet every Wednesday evening in the church lounge for Bible study and fellowship. Except for the last Wednesday of the month when we gather for a prayer meeting. Please join us as we interrogate the scriptures and study the Word. All are welcome.
URL:https://croftonpark.org.uk/event/bible-study/2027-11-03/
LOCATION:Church lounge\, 154 Brockley Grove\, London\, SE4 1EB\, United Kingdom
CATEGORIES:Meeting
ATTACH;FMTTYPE=image/jpeg:https://croftonpark.org.uk/wp-content/uploads/2019/09/Salt-and-Light.jpg
END:VEVENT
BEGIN:VEVENT
DTSTART;TZID=Europe/London:20271110T193000
DTEND;TZID=Europe/London:20271110T210000
DTSTAMP:20260421T224950
CREATED:20240515T132203Z
LAST-MODIFIED:20240515T142847Z
UID:10000230-1825875000-1825880400@croftonpark.org.uk
SUMMARY:Bible study
DESCRIPTION:We meet every Wednesday evening in the church lounge for Bible study and fellowship. Except for the last Wednesday of the month when we gather for a prayer meeting. Please join us as we interrogate the scriptures and study the Word. All are welcome.
URL:https://croftonpark.org.uk/event/bible-study/2027-11-10/
LOCATION:Church lounge\, 154 Brockley Grove\, London\, SE4 1EB\, United Kingdom
CATEGORIES:Meeting
ATTACH;FMTTYPE=image/jpeg:https://croftonpark.org.uk/wp-content/uploads/2019/09/Salt-and-Light.jpg
END:VEVENT
BEGIN:VEVENT
DTSTART;TZID=Europe/London:20271113T103000
DTEND;TZID=Europe/London:20271113T120000
DTSTAMP:20260421T224950
CREATED:20240515T132444Z
LAST-MODIFIED:20250201T163453Z
UID:10000370-1826101800-1826107200@croftonpark.org.uk
SUMMARY:Monthly Saturday prayer meeting
DESCRIPTION:We meet in the lounge on the second Saturday of every month to prayer\, sing and meditate on scripture. Why not join us for a few hours of quiet fellowship in friendly company. We start at 10:30 and finish just before midday.
URL:https://croftonpark.org.uk/event/monthly-saturday-prayer-meeting/2027-11-13/
LOCATION:Crofton Park Baptist Church\, 154 Brockley Grove\, London\, SE4 1EB\, United Kingdom
CATEGORIES:Meeting
ORGANIZER;CN="Judith Seymour":MAILTO:judithseymour@hotmail.co.uk
END:VEVENT
BEGIN:VEVENT
DTSTART;TZID=Europe/London:20271117T193000
DTEND;TZID=Europe/London:20271117T210000
DTSTAMP:20260421T224950
CREATED:20240515T132203Z
LAST-MODIFIED:20240515T142847Z
UID:10000231-1826479800-1826485200@croftonpark.org.uk
SUMMARY:Bible study
DESCRIPTION:We meet every Wednesday evening in the church lounge for Bible study and fellowship. Except for the last Wednesday of the month when we gather for a prayer meeting. Please join us as we interrogate the scriptures and study the Word. All are welcome.
URL:https://croftonpark.org.uk/event/bible-study/2027-11-17/
LOCATION:Church lounge\, 154 Brockley Grove\, London\, SE4 1EB\, United Kingdom
CATEGORIES:Meeting
ATTACH;FMTTYPE=image/jpeg:https://croftonpark.org.uk/wp-content/uploads/2019/09/Salt-and-Light.jpg
END:VEVENT
BEGIN:VEVENT
DTSTART;TZID=Europe/London:20271201T193000
DTEND;TZID=Europe/London:20271201T210000
DTSTAMP:20260421T224950
CREATED:20240515T132203Z
LAST-MODIFIED:20240515T142847Z
UID:10000232-1827689400-1827694800@croftonpark.org.uk
SUMMARY:Bible study
DESCRIPTION:We meet every Wednesday evening in the church lounge for Bible study and fellowship. Except for the last Wednesday of the month when we gather for a prayer meeting. Please join us as we interrogate the scriptures and study the Word. All are welcome.
URL:https://croftonpark.org.uk/event/bible-study/2027-12-01/
LOCATION:Church lounge\, 154 Brockley Grove\, London\, SE4 1EB\, United Kingdom
CATEGORIES:Meeting
ATTACH;FMTTYPE=image/jpeg:https://croftonpark.org.uk/wp-content/uploads/2019/09/Salt-and-Light.jpg
END:VEVENT
BEGIN:VEVENT
DTSTART;TZID=Europe/London:20271208T193000
DTEND;TZID=Europe/London:20271208T210000
DTSTAMP:20260421T224950
CREATED:20240515T132203Z
LAST-MODIFIED:20240515T142847Z
UID:10000233-1828294200-1828299600@croftonpark.org.uk
SUMMARY:Bible study
DESCRIPTION:We meet every Wednesday evening in the church lounge for Bible study and fellowship. Except for the last Wednesday of the month when we gather for a prayer meeting. Please join us as we interrogate the scriptures and study the Word. All are welcome.
URL:https://croftonpark.org.uk/event/bible-study/2027-12-08/
LOCATION:Church lounge\, 154 Brockley Grove\, London\, SE4 1EB\, United Kingdom
CATEGORIES:Meeting
ATTACH;FMTTYPE=image/jpeg:https://croftonpark.org.uk/wp-content/uploads/2019/09/Salt-and-Light.jpg
END:VEVENT
BEGIN:VEVENT
DTSTART;TZID=Europe/London:20271211T103000
DTEND;TZID=Europe/London:20271211T120000
DTSTAMP:20260421T224950
CREATED:20240515T132444Z
LAST-MODIFIED:20250201T163453Z
UID:10000371-1828521000-1828526400@croftonpark.org.uk
SUMMARY:Monthly Saturday prayer meeting
DESCRIPTION:We meet in the lounge on the second Saturday of every month to prayer\, sing and meditate on scripture. Why not join us for a few hours of quiet fellowship in friendly company. We start at 10:30 and finish just before midday.
URL:https://croftonpark.org.uk/event/monthly-saturday-prayer-meeting/2027-12-11/
LOCATION:Crofton Park Baptist Church\, 154 Brockley Grove\, London\, SE4 1EB\, United Kingdom
CATEGORIES:Meeting
ORGANIZER;CN="Judith Seymour":MAILTO:judithseymour@hotmail.co.uk
END:VEVENT
BEGIN:VEVENT
DTSTART;TZID=Europe/London:20271215T193000
DTEND;TZID=Europe/London:20271215T210000
DTSTAMP:20260421T224950
CREATED:20240515T132203Z
LAST-MODIFIED:20240515T142847Z
UID:10000234-1828899000-1828904400@croftonpark.org.uk
SUMMARY:Bible study
DESCRIPTION:We meet every Wednesday evening in the church lounge for Bible study and fellowship. Except for the last Wednesday of the month when we gather for a prayer meeting. Please join us as we interrogate the scriptures and study the Word. All are welcome.
URL:https://croftonpark.org.uk/event/bible-study/2027-12-15/
LOCATION:Church lounge\, 154 Brockley Grove\, London\, SE4 1EB\, United Kingdom
CATEGORIES:Meeting
ATTACH;FMTTYPE=image/jpeg:https://croftonpark.org.uk/wp-content/uploads/2019/09/Salt-and-Light.jpg
END:VEVENT
BEGIN:VEVENT
DTSTART;TZID=Europe/London:20271222T193000
DTEND;TZID=Europe/London:20271222T210000
DTSTAMP:20260421T224950
CREATED:20240515T132203Z
LAST-MODIFIED:20240515T142847Z
UID:10000235-1829503800-1829509200@croftonpark.org.uk
SUMMARY:Bible study
DESCRIPTION:We meet every Wednesday evening in the church lounge for Bible study and fellowship. Except for the last Wednesday of the month when we gather for a prayer meeting. Please join us as we interrogate the scriptures and study the Word. All are welcome.
URL:https://croftonpark.org.uk/event/bible-study/2027-12-22/
LOCATION:Church lounge\, 154 Brockley Grove\, London\, SE4 1EB\, United Kingdom
CATEGORIES:Meeting
ATTACH;FMTTYPE=image/jpeg:https://croftonpark.org.uk/wp-content/uploads/2019/09/Salt-and-Light.jpg
END:VEVENT
BEGIN:VEVENT
DTSTART;TZID=Europe/London:20280105T193000
DTEND;TZID=Europe/London:20280105T210000
DTSTAMP:20260421T224950
CREATED:20240515T132203Z
LAST-MODIFIED:20240515T142847Z
UID:10000236-1830713400-1830718800@croftonpark.org.uk
SUMMARY:Bible study
DESCRIPTION:We meet every Wednesday evening in the church lounge for Bible study and fellowship. Except for the last Wednesday of the month when we gather for a prayer meeting. Please join us as we interrogate the scriptures and study the Word. All are welcome.
URL:https://croftonpark.org.uk/event/bible-study/2028-01-05/
LOCATION:Church lounge\, 154 Brockley Grove\, London\, SE4 1EB\, United Kingdom
CATEGORIES:Meeting
ATTACH;FMTTYPE=image/jpeg:https://croftonpark.org.uk/wp-content/uploads/2019/09/Salt-and-Light.jpg
END:VEVENT
BEGIN:VEVENT
DTSTART;TZID=Europe/London:20280108T103000
DTEND;TZID=Europe/London:20280108T120000
DTSTAMP:20260421T224950
CREATED:20240515T132444Z
LAST-MODIFIED:20250201T163453Z
UID:10000372-1830940200-1830945600@croftonpark.org.uk
SUMMARY:Monthly Saturday prayer meeting
DESCRIPTION:We meet in the lounge on the second Saturday of every month to prayer\, sing and meditate on scripture. Why not join us for a few hours of quiet fellowship in friendly company. We start at 10:30 and finish just before midday.
URL:https://croftonpark.org.uk/event/monthly-saturday-prayer-meeting/2028-01-08/
LOCATION:Crofton Park Baptist Church\, 154 Brockley Grove\, London\, SE4 1EB\, United Kingdom
CATEGORIES:Meeting
ORGANIZER;CN="Judith Seymour":MAILTO:judithseymour@hotmail.co.uk
END:VEVENT
BEGIN:VEVENT
DTSTART;TZID=Europe/London:20280112T193000
DTEND;TZID=Europe/London:20280112T210000
DTSTAMP:20260421T224950
CREATED:20240515T132203Z
LAST-MODIFIED:20240515T142847Z
UID:10000237-1831318200-1831323600@croftonpark.org.uk
SUMMARY:Bible study
DESCRIPTION:We meet every Wednesday evening in the church lounge for Bible study and fellowship. Except for the last Wednesday of the month when we gather for a prayer meeting. Please join us as we interrogate the scriptures and study the Word. All are welcome.
URL:https://croftonpark.org.uk/event/bible-study/2028-01-12/
LOCATION:Church lounge\, 154 Brockley Grove\, London\, SE4 1EB\, United Kingdom
CATEGORIES:Meeting
ATTACH;FMTTYPE=image/jpeg:https://croftonpark.org.uk/wp-content/uploads/2019/09/Salt-and-Light.jpg
END:VEVENT
BEGIN:VEVENT
DTSTART;TZID=Europe/London:20280119T193000
DTEND;TZID=Europe/London:20280119T210000
DTSTAMP:20260421T224950
CREATED:20240515T132203Z
LAST-MODIFIED:20240515T142847Z
UID:10000238-1831923000-1831928400@croftonpark.org.uk
SUMMARY:Bible study
DESCRIPTION:We meet every Wednesday evening in the church lounge for Bible study and fellowship. Except for the last Wednesday of the month when we gather for a prayer meeting. Please join us as we interrogate the scriptures and study the Word. All are welcome.
URL:https://croftonpark.org.uk/event/bible-study/2028-01-19/
LOCATION:Church lounge\, 154 Brockley Grove\, London\, SE4 1EB\, United Kingdom
CATEGORIES:Meeting
ATTACH;FMTTYPE=image/jpeg:https://croftonpark.org.uk/wp-content/uploads/2019/09/Salt-and-Light.jpg
END:VEVENT
BEGIN:VEVENT
DTSTART;TZID=Europe/London:20280202T193000
DTEND;TZID=Europe/London:20280202T210000
DTSTAMP:20260421T224950
CREATED:20240515T132203Z
LAST-MODIFIED:20240515T142847Z
UID:10000239-1833132600-1833138000@croftonpark.org.uk
SUMMARY:Bible study
DESCRIPTION:We meet every Wednesday evening in the church lounge for Bible study and fellowship. Except for the last Wednesday of the month when we gather for a prayer meeting. Please join us as we interrogate the scriptures and study the Word. All are welcome.
URL:https://croftonpark.org.uk/event/bible-study/2028-02-02/
LOCATION:Church lounge\, 154 Brockley Grove\, London\, SE4 1EB\, United Kingdom
CATEGORIES:Meeting
ATTACH;FMTTYPE=image/jpeg:https://croftonpark.org.uk/wp-content/uploads/2019/09/Salt-and-Light.jpg
END:VEVENT
BEGIN:VEVENT
DTSTART;TZID=Europe/London:20280209T193000
DTEND;TZID=Europe/London:20280209T210000
DTSTAMP:20260421T224950
CREATED:20240515T132203Z
LAST-MODIFIED:20240515T142847Z
UID:10000240-1833737400-1833742800@croftonpark.org.uk
SUMMARY:Bible study
DESCRIPTION:We meet every Wednesday evening in the church lounge for Bible study and fellowship. Except for the last Wednesday of the month when we gather for a prayer meeting. Please join us as we interrogate the scriptures and study the Word. All are welcome.
URL:https://croftonpark.org.uk/event/bible-study/2028-02-09/
LOCATION:Church lounge\, 154 Brockley Grove\, London\, SE4 1EB\, United Kingdom
CATEGORIES:Meeting
ATTACH;FMTTYPE=image/jpeg:https://croftonpark.org.uk/wp-content/uploads/2019/09/Salt-and-Light.jpg
END:VEVENT
BEGIN:VEVENT
DTSTART;TZID=Europe/London:20280212T103000
DTEND;TZID=Europe/London:20280212T120000
DTSTAMP:20260421T224950
CREATED:20240515T132444Z
LAST-MODIFIED:20250201T163453Z
UID:10000373-1833964200-1833969600@croftonpark.org.uk
SUMMARY:Monthly Saturday prayer meeting
DESCRIPTION:We meet in the lounge on the second Saturday of every month to prayer\, sing and meditate on scripture. Why not join us for a few hours of quiet fellowship in friendly company. We start at 10:30 and finish just before midday.
URL:https://croftonpark.org.uk/event/monthly-saturday-prayer-meeting/2028-02-12/
LOCATION:Crofton Park Baptist Church\, 154 Brockley Grove\, London\, SE4 1EB\, United Kingdom
CATEGORIES:Meeting
ORGANIZER;CN="Judith Seymour":MAILTO:judithseymour@hotmail.co.uk
END:VEVENT
BEGIN:VEVENT
DTSTART;TZID=Europe/London:20280216T193000
DTEND;TZID=Europe/London:20280216T210000
DTSTAMP:20260421T224950
CREATED:20240515T132203Z
LAST-MODIFIED:20240515T142847Z
UID:10000241-1834342200-1834347600@croftonpark.org.uk
SUMMARY:Bible study
DESCRIPTION:We meet every Wednesday evening in the church lounge for Bible study and fellowship. Except for the last Wednesday of the month when we gather for a prayer meeting. Please join us as we interrogate the scriptures and study the Word. All are welcome.
URL:https://croftonpark.org.uk/event/bible-study/2028-02-16/
LOCATION:Church lounge\, 154 Brockley Grove\, London\, SE4 1EB\, United Kingdom
CATEGORIES:Meeting
ATTACH;FMTTYPE=image/jpeg:https://croftonpark.org.uk/wp-content/uploads/2019/09/Salt-and-Light.jpg
END:VEVENT
BEGIN:VEVENT
DTSTART;TZID=Europe/London:20280301T193000
DTEND;TZID=Europe/London:20280301T210000
DTSTAMP:20260421T224950
CREATED:20240515T132203Z
LAST-MODIFIED:20240515T142847Z
UID:10000242-1835551800-1835557200@croftonpark.org.uk
SUMMARY:Bible study
DESCRIPTION:We meet every Wednesday evening in the church lounge for Bible study and fellowship. Except for the last Wednesday of the month when we gather for a prayer meeting. Please join us as we interrogate the scriptures and study the Word. All are welcome.
URL:https://croftonpark.org.uk/event/bible-study/2028-03-01/
LOCATION:Church lounge\, 154 Brockley Grove\, London\, SE4 1EB\, United Kingdom
CATEGORIES:Meeting
ATTACH;FMTTYPE=image/jpeg:https://croftonpark.org.uk/wp-content/uploads/2019/09/Salt-and-Light.jpg
END:VEVENT
END:VCALENDAR