BEGIN:VCALENDAR
VERSION:2.0
PRODID:-//Crofton Park Baptist Church - ECPv6.15.20//NONSGML v1.0//EN
CALSCALE:GREGORIAN
METHOD:PUBLISH
X-WR-CALNAME:Crofton Park Baptist Church
X-ORIGINAL-URL:https://croftonpark.org.uk
X-WR-CALDESC:Events for Crofton Park Baptist Church
REFRESH-INTERVAL;VALUE=DURATION:PT1H
X-Robots-Tag:noindex
X-PUBLISHED-TTL:PT1H
BEGIN:VTIMEZONE
TZID:Europe/London
BEGIN:DAYLIGHT
TZOFFSETFROM:+0000
TZOFFSETTO:+0100
TZNAME:BST
DTSTART:20250330T010000
END:DAYLIGHT
BEGIN:STANDARD
TZOFFSETFROM:+0100
TZOFFSETTO:+0000
TZNAME:GMT
DTSTART:20251026T010000
END:STANDARD
BEGIN:DAYLIGHT
TZOFFSETFROM:+0000
TZOFFSETTO:+0100
TZNAME:BST
DTSTART:20260329T010000
END:DAYLIGHT
BEGIN:STANDARD
TZOFFSETFROM:+0100
TZOFFSETTO:+0000
TZNAME:GMT
DTSTART:20261025T010000
END:STANDARD
BEGIN:DAYLIGHT
TZOFFSETFROM:+0000
TZOFFSETTO:+0100
TZNAME:BST
DTSTART:20270328T010000
END:DAYLIGHT
BEGIN:STANDARD
TZOFFSETFROM:+0100
TZOFFSETTO:+0000
TZNAME:GMT
DTSTART:20271031T010000
END:STANDARD
END:VTIMEZONE
BEGIN:VEVENT
DTSTART;TZID=Europe/London:20260306T193000
DTEND;TZID=Europe/London:20260306T210000
DTSTAMP:20260421T224519
CREATED:20250322T120555Z
LAST-MODIFIED:20251223T001023Z
UID:10000577-1772825400-1772830800@croftonpark.org.uk
SUMMARY:Friday Youth Club
DESCRIPTION:Bring your young ones round every Friday for games and food. Doors open at 7:30pm and close at 9pm. If you are willing to volunteer to supervise one of our sessions please contact Earl.
URL:https://croftonpark.org.uk/event/friday-youth-club/2026-03-06/
LOCATION:Crofton Park Baptist Church\, 154 Brockley Grove\, London\, SE4 1EB\, United Kingdom
CATEGORIES:Socials
ORGANIZER;CN="Earl Legister":MAILTO:earl.legister@croftonpark.org.uk
END:VEVENT
BEGIN:VEVENT
DTSTART;TZID=Europe/London:20260311T193000
DTEND;TZID=Europe/London:20260311T210000
DTSTAMP:20260421T224519
CREATED:20240515T132203Z
LAST-MODIFIED:20240515T142847Z
UID:10000163-1773257400-1773262800@croftonpark.org.uk
SUMMARY:Bible study
DESCRIPTION:We meet every Wednesday evening in the church lounge for Bible study and fellowship. Except for the last Wednesday of the month when we gather for a prayer meeting. Please join us as we interrogate the scriptures and study the Word. All are welcome.
URL:https://croftonpark.org.uk/event/bible-study/2026-03-11/
LOCATION:Church lounge\, 154 Brockley Grove\, London\, SE4 1EB\, United Kingdom
CATEGORIES:Meeting
ATTACH;FMTTYPE=image/jpeg:https://croftonpark.org.uk/wp-content/uploads/2019/09/Salt-and-Light.jpg
END:VEVENT
BEGIN:VEVENT
DTSTART;TZID=Europe/London:20260313T193000
DTEND;TZID=Europe/London:20260313T210000
DTSTAMP:20260421T224519
CREATED:20250322T120555Z
LAST-MODIFIED:20251223T001023Z
UID:10000578-1773430200-1773435600@croftonpark.org.uk
SUMMARY:Friday Youth Club
DESCRIPTION:Bring your young ones round every Friday for games and food. Doors open at 7:30pm and close at 9pm. If you are willing to volunteer to supervise one of our sessions please contact Earl.
URL:https://croftonpark.org.uk/event/friday-youth-club/2026-03-13/
LOCATION:Crofton Park Baptist Church\, 154 Brockley Grove\, London\, SE4 1EB\, United Kingdom
CATEGORIES:Socials
ORGANIZER;CN="Earl Legister":MAILTO:earl.legister@croftonpark.org.uk
END:VEVENT
BEGIN:VEVENT
DTSTART;TZID=Europe/London:20260314T103000
DTEND;TZID=Europe/London:20260314T120000
DTSTAMP:20260421T224519
CREATED:20240515T132444Z
LAST-MODIFIED:20250201T163453Z
UID:10000350-1773484200-1773489600@croftonpark.org.uk
SUMMARY:Monthly Saturday prayer meeting
DESCRIPTION:We meet in the lounge on the second Saturday of every month to prayer\, sing and meditate on scripture. Why not join us for a few hours of quiet fellowship in friendly company. We start at 10:30 and finish just before midday.
URL:https://croftonpark.org.uk/event/monthly-saturday-prayer-meeting/2026-03-14/
LOCATION:Crofton Park Baptist Church\, 154 Brockley Grove\, London\, SE4 1EB\, United Kingdom
CATEGORIES:Meeting
ORGANIZER;CN="Judith Seymour":MAILTO:judithseymour@hotmail.co.uk
END:VEVENT
BEGIN:VEVENT
DTSTART;TZID=Europe/London:20260318T193000
DTEND;TZID=Europe/London:20260318T210000
DTSTAMP:20260421T224519
CREATED:20240515T132203Z
LAST-MODIFIED:20240515T142847Z
UID:10000164-1773862200-1773867600@croftonpark.org.uk
SUMMARY:Bible study
DESCRIPTION:We meet every Wednesday evening in the church lounge for Bible study and fellowship. Except for the last Wednesday of the month when we gather for a prayer meeting. Please join us as we interrogate the scriptures and study the Word. All are welcome.
URL:https://croftonpark.org.uk/event/bible-study/2026-03-18/
LOCATION:Church lounge\, 154 Brockley Grove\, London\, SE4 1EB\, United Kingdom
CATEGORIES:Meeting
ATTACH;FMTTYPE=image/jpeg:https://croftonpark.org.uk/wp-content/uploads/2019/09/Salt-and-Light.jpg
END:VEVENT
BEGIN:VEVENT
DTSTART;TZID=Europe/London:20260320T193000
DTEND;TZID=Europe/London:20260320T210000
DTSTAMP:20260421T224519
CREATED:20250322T120555Z
LAST-MODIFIED:20251223T001023Z
UID:10000579-1774035000-1774040400@croftonpark.org.uk
SUMMARY:Friday Youth Club
DESCRIPTION:Bring your young ones round every Friday for games and food. Doors open at 7:30pm and close at 9pm. If you are willing to volunteer to supervise one of our sessions please contact Earl.
URL:https://croftonpark.org.uk/event/friday-youth-club/2026-03-20/
LOCATION:Crofton Park Baptist Church\, 154 Brockley Grove\, London\, SE4 1EB\, United Kingdom
CATEGORIES:Socials
ORGANIZER;CN="Earl Legister":MAILTO:earl.legister@croftonpark.org.uk
END:VEVENT
BEGIN:VEVENT
DTSTART;TZID=Europe/London:20260325T080000
DTEND;TZID=Europe/London:20260325T170000
DTSTAMP:20260421T224519
CREATED:20240915T182258Z
LAST-MODIFIED:20240915T182258Z
UID:10000327-1774425600-1774458000@croftonpark.org.uk
SUMMARY:Monthly Wednesday prayer meeting
DESCRIPTION:Join us for our monthly prayer meeting every last Wednesday of the month at 7:30 p.m. in the church sanctuary. This is a dedicated time to come together in prayer\, seek God’s guidance\, and uplift our community and world. All are welcome to participate as we unite in faith and fellowship.
URL:https://croftonpark.org.uk/event/monthly-wednesday-prayer-meeting/2026-03-25/
LOCATION:Crofton Park Baptist Church\, 154 Brockley Grove\, London\, SE4 1EB\, United Kingdom
CATEGORIES:Meeting
ATTACH;FMTTYPE=image/jpeg:https://croftonpark.org.uk/wp-content/uploads/2018/08/group-prayer-mailchimp.jpg
ORGANIZER;CN="Judith Seymour":MAILTO:judithseymour@hotmail.co.uk
END:VEVENT
BEGIN:VEVENT
DTSTART;TZID=Europe/London:20260326T120000
DTEND;TZID=Europe/London:20260326T140000
DTSTAMP:20260421T224519
CREATED:20250511T203810Z
LAST-MODIFIED:20260324T121845Z
UID:10000403-1774526400-1774533600@croftonpark.org.uk
SUMMARY:Bring and Share
DESCRIPTION:Come along on Thursday 26 March for our Bring & Share Lunch! Bring a dish\, grab a plate\, and enjoy good food and great company with friends from church. Everyone’s welcome!
URL:https://croftonpark.org.uk/event/welcome-inn-3-2/
LOCATION:Crofton Park Baptist Church\, 154 Brockley Grove\, London\, SE4 1EB\, United Kingdom
CATEGORIES:Meet up
ATTACH;FMTTYPE=image/jpeg:https://croftonpark.org.uk/wp-content/uploads/2025/05/0b5b1f78-79cb-ee6d-ec65-e480b67f0f79.jpeg
END:VEVENT
BEGIN:VEVENT
DTSTART;TZID=Europe/London:20260331T193000
DTEND;TZID=Europe/London:20260331T203000
DTSTAMP:20260421T224519
CREATED:20250323T111300Z
LAST-MODIFIED:20250323T111300Z
UID:10000592-1774985400-1774989000@croftonpark.org.uk
SUMMARY:Leadership Prayer Meeting
DESCRIPTION:There will be a Leadership Prayer Meeting on the last Tuesday of the month in the lounge at 7:30pm. At this time we take a break from discussing the “business of church” to take time to meditate\, pray and listen to the Word of God.
URL:https://croftonpark.org.uk/event/leadership-prayer-meeting/2026-03-31/
LOCATION:Crofton Park Baptist Church\, 154 Brockley Grove\, London\, SE4 1EB\, United Kingdom
ORGANIZER;CN="Clement Oke":MAILTO:clement.oke@croftonpark.org.uk
END:VEVENT
BEGIN:VEVENT
DTSTART;TZID=Europe/London:20260401T193000
DTEND;TZID=Europe/London:20260401T210000
DTSTAMP:20260421T224519
CREATED:20240515T132203Z
LAST-MODIFIED:20240515T142847Z
UID:10000165-1775071800-1775077200@croftonpark.org.uk
SUMMARY:Bible study
DESCRIPTION:We meet every Wednesday evening in the church lounge for Bible study and fellowship. Except for the last Wednesday of the month when we gather for a prayer meeting. Please join us as we interrogate the scriptures and study the Word. All are welcome.
URL:https://croftonpark.org.uk/event/bible-study/2026-04-01/
LOCATION:Church lounge\, 154 Brockley Grove\, London\, SE4 1EB\, United Kingdom
CATEGORIES:Meeting
ATTACH;FMTTYPE=image/jpeg:https://croftonpark.org.uk/wp-content/uploads/2019/09/Salt-and-Light.jpg
END:VEVENT
BEGIN:VEVENT
DTSTART;TZID=Europe/London:20260408T193000
DTEND;TZID=Europe/London:20260408T210000
DTSTAMP:20260421T224519
CREATED:20240515T132203Z
LAST-MODIFIED:20240515T142847Z
UID:10000166-1775676600-1775682000@croftonpark.org.uk
SUMMARY:Bible study
DESCRIPTION:We meet every Wednesday evening in the church lounge for Bible study and fellowship. Except for the last Wednesday of the month when we gather for a prayer meeting. Please join us as we interrogate the scriptures and study the Word. All are welcome.
URL:https://croftonpark.org.uk/event/bible-study/2026-04-08/
LOCATION:Church lounge\, 154 Brockley Grove\, London\, SE4 1EB\, United Kingdom
CATEGORIES:Meeting
ATTACH;FMTTYPE=image/jpeg:https://croftonpark.org.uk/wp-content/uploads/2019/09/Salt-and-Light.jpg
END:VEVENT
BEGIN:VEVENT
DTSTART;TZID=Europe/London:20260411T103000
DTEND;TZID=Europe/London:20260411T120000
DTSTAMP:20260421T224519
CREATED:20240515T132444Z
LAST-MODIFIED:20250201T163453Z
UID:10000351-1775903400-1775908800@croftonpark.org.uk
SUMMARY:Monthly Saturday prayer meeting
DESCRIPTION:We meet in the lounge on the second Saturday of every month to prayer\, sing and meditate on scripture. Why not join us for a few hours of quiet fellowship in friendly company. We start at 10:30 and finish just before midday.
URL:https://croftonpark.org.uk/event/monthly-saturday-prayer-meeting/2026-04-11/
LOCATION:Crofton Park Baptist Church\, 154 Brockley Grove\, London\, SE4 1EB\, United Kingdom
CATEGORIES:Meeting
ORGANIZER;CN="Judith Seymour":MAILTO:judithseymour@hotmail.co.uk
END:VEVENT
BEGIN:VEVENT
DTSTART;TZID=Europe/London:20260415T193000
DTEND;TZID=Europe/London:20260415T210000
DTSTAMP:20260421T224519
CREATED:20240515T132203Z
LAST-MODIFIED:20240515T142847Z
UID:10000167-1776281400-1776286800@croftonpark.org.uk
SUMMARY:Bible study
DESCRIPTION:We meet every Wednesday evening in the church lounge for Bible study and fellowship. Except for the last Wednesday of the month when we gather for a prayer meeting. Please join us as we interrogate the scriptures and study the Word. All are welcome.
URL:https://croftonpark.org.uk/event/bible-study/2026-04-15/
LOCATION:Church lounge\, 154 Brockley Grove\, London\, SE4 1EB\, United Kingdom
CATEGORIES:Meeting
ATTACH;FMTTYPE=image/jpeg:https://croftonpark.org.uk/wp-content/uploads/2019/09/Salt-and-Light.jpg
END:VEVENT
BEGIN:VEVENT
DTSTART;TZID=Europe/London:20260422T193000
DTEND;TZID=Europe/London:20260422T210000
DTSTAMP:20260421T224519
CREATED:20240515T132203Z
LAST-MODIFIED:20240515T142847Z
UID:10000168-1776886200-1776891600@croftonpark.org.uk
SUMMARY:Bible study
DESCRIPTION:We meet every Wednesday evening in the church lounge for Bible study and fellowship. Except for the last Wednesday of the month when we gather for a prayer meeting. Please join us as we interrogate the scriptures and study the Word. All are welcome.
URL:https://croftonpark.org.uk/event/bible-study/2026-04-22/
LOCATION:Church lounge\, 154 Brockley Grove\, London\, SE4 1EB\, United Kingdom
CATEGORIES:Meeting
ATTACH;FMTTYPE=image/jpeg:https://croftonpark.org.uk/wp-content/uploads/2019/09/Salt-and-Light.jpg
END:VEVENT
BEGIN:VEVENT
DTSTART;TZID=Europe/London:20260428T193000
DTEND;TZID=Europe/London:20260428T203000
DTSTAMP:20260421T224519
CREATED:20250323T111300Z
LAST-MODIFIED:20250323T111300Z
UID:10000593-1777404600-1777408200@croftonpark.org.uk
SUMMARY:Leadership Prayer Meeting
DESCRIPTION:There will be a Leadership Prayer Meeting on the last Tuesday of the month in the lounge at 7:30pm. At this time we take a break from discussing the “business of church” to take time to meditate\, pray and listen to the Word of God.
URL:https://croftonpark.org.uk/event/leadership-prayer-meeting/2026-04-28/
LOCATION:Crofton Park Baptist Church\, 154 Brockley Grove\, London\, SE4 1EB\, United Kingdom
ORGANIZER;CN="Clement Oke":MAILTO:clement.oke@croftonpark.org.uk
END:VEVENT
BEGIN:VEVENT
DTSTART;TZID=Europe/London:20260429T080000
DTEND;TZID=Europe/London:20260429T170000
DTSTAMP:20260421T224519
CREATED:20240915T182258Z
LAST-MODIFIED:20240915T182258Z
UID:10000328-1777449600-1777482000@croftonpark.org.uk
SUMMARY:Monthly Wednesday prayer meeting
DESCRIPTION:Join us for our monthly prayer meeting every last Wednesday of the month at 7:30 p.m. in the church sanctuary. This is a dedicated time to come together in prayer\, seek God’s guidance\, and uplift our community and world. All are welcome to participate as we unite in faith and fellowship.
URL:https://croftonpark.org.uk/event/monthly-wednesday-prayer-meeting/2026-04-29/
LOCATION:Crofton Park Baptist Church\, 154 Brockley Grove\, London\, SE4 1EB\, United Kingdom
CATEGORIES:Meeting
ATTACH;FMTTYPE=image/jpeg:https://croftonpark.org.uk/wp-content/uploads/2018/08/group-prayer-mailchimp.jpg
ORGANIZER;CN="Judith Seymour":MAILTO:judithseymour@hotmail.co.uk
END:VEVENT
BEGIN:VEVENT
DTSTART;TZID=Europe/London:20260506T193000
DTEND;TZID=Europe/London:20260506T210000
DTSTAMP:20260421T224519
CREATED:20240515T132203Z
LAST-MODIFIED:20240515T142847Z
UID:10000169-1778095800-1778101200@croftonpark.org.uk
SUMMARY:Bible study
DESCRIPTION:We meet every Wednesday evening in the church lounge for Bible study and fellowship. Except for the last Wednesday of the month when we gather for a prayer meeting. Please join us as we interrogate the scriptures and study the Word. All are welcome.
URL:https://croftonpark.org.uk/event/bible-study/2026-05-06/
LOCATION:Church lounge\, 154 Brockley Grove\, London\, SE4 1EB\, United Kingdom
CATEGORIES:Meeting
ATTACH;FMTTYPE=image/jpeg:https://croftonpark.org.uk/wp-content/uploads/2019/09/Salt-and-Light.jpg
END:VEVENT
BEGIN:VEVENT
DTSTART;TZID=Europe/London:20260509T103000
DTEND;TZID=Europe/London:20260509T120000
DTSTAMP:20260421T224519
CREATED:20240515T132444Z
LAST-MODIFIED:20250201T163453Z
UID:10000352-1778322600-1778328000@croftonpark.org.uk
SUMMARY:Monthly Saturday prayer meeting
DESCRIPTION:We meet in the lounge on the second Saturday of every month to prayer\, sing and meditate on scripture. Why not join us for a few hours of quiet fellowship in friendly company. We start at 10:30 and finish just before midday.
URL:https://croftonpark.org.uk/event/monthly-saturday-prayer-meeting/2026-05-09/
LOCATION:Crofton Park Baptist Church\, 154 Brockley Grove\, London\, SE4 1EB\, United Kingdom
CATEGORIES:Meeting
ORGANIZER;CN="Judith Seymour":MAILTO:judithseymour@hotmail.co.uk
END:VEVENT
BEGIN:VEVENT
DTSTART;TZID=Europe/London:20260513T193000
DTEND;TZID=Europe/London:20260513T210000
DTSTAMP:20260421T224519
CREATED:20240515T132203Z
LAST-MODIFIED:20240515T142847Z
UID:10000170-1778700600-1778706000@croftonpark.org.uk
SUMMARY:Bible study
DESCRIPTION:We meet every Wednesday evening in the church lounge for Bible study and fellowship. Except for the last Wednesday of the month when we gather for a prayer meeting. Please join us as we interrogate the scriptures and study the Word. All are welcome.
URL:https://croftonpark.org.uk/event/bible-study/2026-05-13/
LOCATION:Church lounge\, 154 Brockley Grove\, London\, SE4 1EB\, United Kingdom
CATEGORIES:Meeting
ATTACH;FMTTYPE=image/jpeg:https://croftonpark.org.uk/wp-content/uploads/2019/09/Salt-and-Light.jpg
END:VEVENT
BEGIN:VEVENT
DTSTART;TZID=Europe/London:20260520T193000
DTEND;TZID=Europe/London:20260520T210000
DTSTAMP:20260421T224519
CREATED:20240515T132203Z
LAST-MODIFIED:20240515T142847Z
UID:10000171-1779305400-1779310800@croftonpark.org.uk
SUMMARY:Bible study
DESCRIPTION:We meet every Wednesday evening in the church lounge for Bible study and fellowship. Except for the last Wednesday of the month when we gather for a prayer meeting. Please join us as we interrogate the scriptures and study the Word. All are welcome.
URL:https://croftonpark.org.uk/event/bible-study/2026-05-20/
LOCATION:Church lounge\, 154 Brockley Grove\, London\, SE4 1EB\, United Kingdom
CATEGORIES:Meeting
ATTACH;FMTTYPE=image/jpeg:https://croftonpark.org.uk/wp-content/uploads/2019/09/Salt-and-Light.jpg
END:VEVENT
BEGIN:VEVENT
DTSTART;TZID=Europe/London:20260526T193000
DTEND;TZID=Europe/London:20260526T203000
DTSTAMP:20260421T224519
CREATED:20250323T111300Z
LAST-MODIFIED:20250323T111300Z
UID:10000594-1779823800-1779827400@croftonpark.org.uk
SUMMARY:Leadership Prayer Meeting
DESCRIPTION:There will be a Leadership Prayer Meeting on the last Tuesday of the month in the lounge at 7:30pm. At this time we take a break from discussing the “business of church” to take time to meditate\, pray and listen to the Word of God.
URL:https://croftonpark.org.uk/event/leadership-prayer-meeting/2026-05-26/
LOCATION:Crofton Park Baptist Church\, 154 Brockley Grove\, London\, SE4 1EB\, United Kingdom
ORGANIZER;CN="Clement Oke":MAILTO:clement.oke@croftonpark.org.uk
END:VEVENT
BEGIN:VEVENT
DTSTART;TZID=Europe/London:20260527T080000
DTEND;TZID=Europe/London:20260527T170000
DTSTAMP:20260421T224519
CREATED:20240915T182258Z
LAST-MODIFIED:20240915T182258Z
UID:10000329-1779868800-1779901200@croftonpark.org.uk
SUMMARY:Monthly Wednesday prayer meeting
DESCRIPTION:Join us for our monthly prayer meeting every last Wednesday of the month at 7:30 p.m. in the church sanctuary. This is a dedicated time to come together in prayer\, seek God’s guidance\, and uplift our community and world. All are welcome to participate as we unite in faith and fellowship.
URL:https://croftonpark.org.uk/event/monthly-wednesday-prayer-meeting/2026-05-27/
LOCATION:Crofton Park Baptist Church\, 154 Brockley Grove\, London\, SE4 1EB\, United Kingdom
CATEGORIES:Meeting
ATTACH;FMTTYPE=image/jpeg:https://croftonpark.org.uk/wp-content/uploads/2018/08/group-prayer-mailchimp.jpg
ORGANIZER;CN="Judith Seymour":MAILTO:judithseymour@hotmail.co.uk
END:VEVENT
BEGIN:VEVENT
DTSTART;TZID=Europe/London:20260603T193000
DTEND;TZID=Europe/London:20260603T210000
DTSTAMP:20260421T224519
CREATED:20240515T132203Z
LAST-MODIFIED:20240515T142847Z
UID:10000172-1780515000-1780520400@croftonpark.org.uk
SUMMARY:Bible study
DESCRIPTION:We meet every Wednesday evening in the church lounge for Bible study and fellowship. Except for the last Wednesday of the month when we gather for a prayer meeting. Please join us as we interrogate the scriptures and study the Word. All are welcome.
URL:https://croftonpark.org.uk/event/bible-study/2026-06-03/
LOCATION:Church lounge\, 154 Brockley Grove\, London\, SE4 1EB\, United Kingdom
CATEGORIES:Meeting
ATTACH;FMTTYPE=image/jpeg:https://croftonpark.org.uk/wp-content/uploads/2019/09/Salt-and-Light.jpg
END:VEVENT
BEGIN:VEVENT
DTSTART;TZID=Europe/London:20260610T193000
DTEND;TZID=Europe/London:20260610T210000
DTSTAMP:20260421T224519
CREATED:20240515T132203Z
LAST-MODIFIED:20240515T142847Z
UID:10000173-1781119800-1781125200@croftonpark.org.uk
SUMMARY:Bible study
DESCRIPTION:We meet every Wednesday evening in the church lounge for Bible study and fellowship. Except for the last Wednesday of the month when we gather for a prayer meeting. Please join us as we interrogate the scriptures and study the Word. All are welcome.
URL:https://croftonpark.org.uk/event/bible-study/2026-06-10/
LOCATION:Church lounge\, 154 Brockley Grove\, London\, SE4 1EB\, United Kingdom
CATEGORIES:Meeting
ATTACH;FMTTYPE=image/jpeg:https://croftonpark.org.uk/wp-content/uploads/2019/09/Salt-and-Light.jpg
END:VEVENT
BEGIN:VEVENT
DTSTART;TZID=Europe/London:20260613T103000
DTEND;TZID=Europe/London:20260613T120000
DTSTAMP:20260421T224519
CREATED:20240515T132444Z
LAST-MODIFIED:20250201T163453Z
UID:10000353-1781346600-1781352000@croftonpark.org.uk
SUMMARY:Monthly Saturday prayer meeting
DESCRIPTION:We meet in the lounge on the second Saturday of every month to prayer\, sing and meditate on scripture. Why not join us for a few hours of quiet fellowship in friendly company. We start at 10:30 and finish just before midday.
URL:https://croftonpark.org.uk/event/monthly-saturday-prayer-meeting/2026-06-13/
LOCATION:Crofton Park Baptist Church\, 154 Brockley Grove\, London\, SE4 1EB\, United Kingdom
CATEGORIES:Meeting
ORGANIZER;CN="Judith Seymour":MAILTO:judithseymour@hotmail.co.uk
END:VEVENT
BEGIN:VEVENT
DTSTART;TZID=Europe/London:20260617T193000
DTEND;TZID=Europe/London:20260617T210000
DTSTAMP:20260421T224519
CREATED:20240515T132203Z
LAST-MODIFIED:20240515T142847Z
UID:10000174-1781724600-1781730000@croftonpark.org.uk
SUMMARY:Bible study
DESCRIPTION:We meet every Wednesday evening in the church lounge for Bible study and fellowship. Except for the last Wednesday of the month when we gather for a prayer meeting. Please join us as we interrogate the scriptures and study the Word. All are welcome.
URL:https://croftonpark.org.uk/event/bible-study/2026-06-17/
LOCATION:Church lounge\, 154 Brockley Grove\, London\, SE4 1EB\, United Kingdom
CATEGORIES:Meeting
ATTACH;FMTTYPE=image/jpeg:https://croftonpark.org.uk/wp-content/uploads/2019/09/Salt-and-Light.jpg
END:VEVENT
BEGIN:VEVENT
DTSTART;TZID=Europe/London:20260624T080000
DTEND;TZID=Europe/London:20260624T170000
DTSTAMP:20260421T224519
CREATED:20240915T182258Z
LAST-MODIFIED:20240915T182258Z
UID:10000330-1782288000-1782320400@croftonpark.org.uk
SUMMARY:Monthly Wednesday prayer meeting
DESCRIPTION:Join us for our monthly prayer meeting every last Wednesday of the month at 7:30 p.m. in the church sanctuary. This is a dedicated time to come together in prayer\, seek God’s guidance\, and uplift our community and world. All are welcome to participate as we unite in faith and fellowship.
URL:https://croftonpark.org.uk/event/monthly-wednesday-prayer-meeting/2026-06-24/
LOCATION:Crofton Park Baptist Church\, 154 Brockley Grove\, London\, SE4 1EB\, United Kingdom
CATEGORIES:Meeting
ATTACH;FMTTYPE=image/jpeg:https://croftonpark.org.uk/wp-content/uploads/2018/08/group-prayer-mailchimp.jpg
ORGANIZER;CN="Judith Seymour":MAILTO:judithseymour@hotmail.co.uk
END:VEVENT
BEGIN:VEVENT
DTSTART;TZID=Europe/London:20260627T093000
DTEND;TZID=Europe/London:20260627T130000
DTSTAMP:20260421T224519
CREATED:20260413T125712Z
LAST-MODIFIED:20260413T125752Z
UID:10000745-1782552600-1782565200@croftonpark.org.uk
SUMMARY:Learn how to create and publish a podcast
DESCRIPTION:Join us for a practical training session designed for churches that want to launch their own podcast as part of their digital ministry. \nThis hands-on session will guide you through the key steps involved in setting up and publishing a podcast\, from choosing the right equipment and recording your content to editing audio\, hosting episodes and making them available on major podcast platforms. Whether you are starting from scratch or looking to improve an existing setup\, this training will help you understand the process clearly and confidently. \nThe session is ideal for church leaders\, media teams\, communications volunteers and anyone involved in sharing teaching\, testimony\, devotionals or church conversations online. We will focus on simple\, accessible ways for churches to use podcasting to extend their reach\, support discipleship and connect with people beyond Sunday services. \nDate: Saturday 27 June 2026\nTime: 9:30am to 1:00pm\nLocation: Crofton Park Baptist Church\nPrice: £25 per delegate \nCome and learn how podcasting can become an effective part of your church’s digital ministry. \nEmail hello@croftonpark.org.uk to book.
URL:https://croftonpark.org.uk/event/learn-how-to-create-and-publish-a-podcast/
LOCATION:Crofton Park Baptist Church\, 154 Brockley Grove\, London\, SE4 1EB\, United Kingdom
CATEGORIES:Training
ATTACH;FMTTYPE=image/jpeg:https://croftonpark.org.uk/wp-content/uploads/2019/05/podcast-04.jpg
ORGANIZER;CN="Clement Oke":MAILTO:clement.oke@croftonpark.org.uk
END:VEVENT
BEGIN:VEVENT
DTSTART;TZID=Europe/London:20260630T193000
DTEND;TZID=Europe/London:20260630T203000
DTSTAMP:20260421T224519
CREATED:20250323T111300Z
LAST-MODIFIED:20250323T111300Z
UID:10000595-1782847800-1782851400@croftonpark.org.uk
SUMMARY:Leadership Prayer Meeting
DESCRIPTION:There will be a Leadership Prayer Meeting on the last Tuesday of the month in the lounge at 7:30pm. At this time we take a break from discussing the “business of church” to take time to meditate\, pray and listen to the Word of God.
URL:https://croftonpark.org.uk/event/leadership-prayer-meeting/2026-06-30/
LOCATION:Crofton Park Baptist Church\, 154 Brockley Grove\, London\, SE4 1EB\, United Kingdom
ORGANIZER;CN="Clement Oke":MAILTO:clement.oke@croftonpark.org.uk
END:VEVENT
BEGIN:VEVENT
DTSTART;TZID=Europe/London:20260701T193000
DTEND;TZID=Europe/London:20260701T210000
DTSTAMP:20260421T224519
CREATED:20240515T132203Z
LAST-MODIFIED:20240515T142847Z
UID:10000175-1782934200-1782939600@croftonpark.org.uk
SUMMARY:Bible study
DESCRIPTION:We meet every Wednesday evening in the church lounge for Bible study and fellowship. Except for the last Wednesday of the month when we gather for a prayer meeting. Please join us as we interrogate the scriptures and study the Word. All are welcome.
URL:https://croftonpark.org.uk/event/bible-study/2026-07-01/
LOCATION:Church lounge\, 154 Brockley Grove\, London\, SE4 1EB\, United Kingdom
CATEGORIES:Meeting
ATTACH;FMTTYPE=image/jpeg:https://croftonpark.org.uk/wp-content/uploads/2019/09/Salt-and-Light.jpg
END:VEVENT
END:VCALENDAR