BEGIN:VCALENDAR
VERSION:2.0
PRODID:-//Crofton Park Baptist Church - ECPv6.15.20//NONSGML v1.0//EN
CALSCALE:GREGORIAN
METHOD:PUBLISH
X-WR-CALNAME:Crofton Park Baptist Church
X-ORIGINAL-URL:https://croftonpark.org.uk
X-WR-CALDESC:Events for Crofton Park Baptist Church
REFRESH-INTERVAL;VALUE=DURATION:PT1H
X-Robots-Tag:noindex
X-PUBLISHED-TTL:PT1H
BEGIN:VTIMEZONE
TZID:Europe/London
BEGIN:DAYLIGHT
TZOFFSETFROM:+0000
TZOFFSETTO:+0100
TZNAME:BST
DTSTART:20260329T010000
END:DAYLIGHT
BEGIN:STANDARD
TZOFFSETFROM:+0100
TZOFFSETTO:+0000
TZNAME:GMT
DTSTART:20261025T010000
END:STANDARD
BEGIN:DAYLIGHT
TZOFFSETFROM:+0000
TZOFFSETTO:+0100
TZNAME:BST
DTSTART:20270328T010000
END:DAYLIGHT
BEGIN:STANDARD
TZOFFSETFROM:+0100
TZOFFSETTO:+0000
TZNAME:GMT
DTSTART:20271031T010000
END:STANDARD
BEGIN:DAYLIGHT
TZOFFSETFROM:+0000
TZOFFSETTO:+0100
TZNAME:BST
DTSTART:20280326T010000
END:DAYLIGHT
BEGIN:STANDARD
TZOFFSETFROM:+0100
TZOFFSETTO:+0000
TZNAME:GMT
DTSTART:20281029T010000
END:STANDARD
END:VTIMEZONE
BEGIN:VEVENT
DTSTART;TZID=Europe/London:20270217T193000
DTEND;TZID=Europe/London:20270217T210000
DTSTAMP:20260422T074702
CREATED:20240515T132203Z
LAST-MODIFIED:20240515T142847Z
UID:10000201-1802892600-1802898000@croftonpark.org.uk
SUMMARY:Bible study
DESCRIPTION:We meet every Wednesday evening in the church lounge for Bible study and fellowship. Except for the last Wednesday of the month when we gather for a prayer meeting. Please join us as we interrogate the scriptures and study the Word. All are welcome.
URL:https://croftonpark.org.uk/event/bible-study/2027-02-17/
LOCATION:Church lounge\, 154 Brockley Grove\, London\, SE4 1EB\, United Kingdom
CATEGORIES:Meeting
ATTACH;FMTTYPE=image/jpeg:https://croftonpark.org.uk/wp-content/uploads/2019/09/Salt-and-Light.jpg
END:VEVENT
BEGIN:VEVENT
DTSTART;TZID=Europe/London:20270223T193000
DTEND;TZID=Europe/London:20270223T203000
DTSTAMP:20260422T074702
CREATED:20250323T111300Z
LAST-MODIFIED:20250323T111300Z
UID:10000603-1803411000-1803414600@croftonpark.org.uk
SUMMARY:Leadership Prayer Meeting
DESCRIPTION:There will be a Leadership Prayer Meeting on the last Tuesday of the month in the lounge at 7:30pm. At this time we take a break from discussing the “business of church” to take time to meditate\, pray and listen to the Word of God.
URL:https://croftonpark.org.uk/event/leadership-prayer-meeting/2027-02-23/
LOCATION:Crofton Park Baptist Church\, 154 Brockley Grove\, London\, SE4 1EB\, United Kingdom
ORGANIZER;CN="Clement Oke":MAILTO:clement.oke@croftonpark.org.uk
END:VEVENT
BEGIN:VEVENT
DTSTART;TZID=Europe/London:20270303T193000
DTEND;TZID=Europe/London:20270303T210000
DTSTAMP:20260422T074702
CREATED:20240515T132203Z
LAST-MODIFIED:20240515T142847Z
UID:10000202-1804102200-1804107600@croftonpark.org.uk
SUMMARY:Bible study
DESCRIPTION:We meet every Wednesday evening in the church lounge for Bible study and fellowship. Except for the last Wednesday of the month when we gather for a prayer meeting. Please join us as we interrogate the scriptures and study the Word. All are welcome.
URL:https://croftonpark.org.uk/event/bible-study/2027-03-03/
LOCATION:Church lounge\, 154 Brockley Grove\, London\, SE4 1EB\, United Kingdom
CATEGORIES:Meeting
ATTACH;FMTTYPE=image/jpeg:https://croftonpark.org.uk/wp-content/uploads/2019/09/Salt-and-Light.jpg
END:VEVENT
BEGIN:VEVENT
DTSTART;TZID=Europe/London:20270310T193000
DTEND;TZID=Europe/London:20270310T210000
DTSTAMP:20260422T074702
CREATED:20240515T132203Z
LAST-MODIFIED:20240515T142847Z
UID:10000203-1804707000-1804712400@croftonpark.org.uk
SUMMARY:Bible study
DESCRIPTION:We meet every Wednesday evening in the church lounge for Bible study and fellowship. Except for the last Wednesday of the month when we gather for a prayer meeting. Please join us as we interrogate the scriptures and study the Word. All are welcome.
URL:https://croftonpark.org.uk/event/bible-study/2027-03-10/
LOCATION:Church lounge\, 154 Brockley Grove\, London\, SE4 1EB\, United Kingdom
CATEGORIES:Meeting
ATTACH;FMTTYPE=image/jpeg:https://croftonpark.org.uk/wp-content/uploads/2019/09/Salt-and-Light.jpg
END:VEVENT
BEGIN:VEVENT
DTSTART;TZID=Europe/London:20270313T103000
DTEND;TZID=Europe/London:20270313T120000
DTSTAMP:20260422T074702
CREATED:20240515T132444Z
LAST-MODIFIED:20250201T163453Z
UID:10000362-1804933800-1804939200@croftonpark.org.uk
SUMMARY:Monthly Saturday prayer meeting
DESCRIPTION:We meet in the lounge on the second Saturday of every month to prayer\, sing and meditate on scripture. Why not join us for a few hours of quiet fellowship in friendly company. We start at 10:30 and finish just before midday.
URL:https://croftonpark.org.uk/event/monthly-saturday-prayer-meeting/2027-03-13/
LOCATION:Crofton Park Baptist Church\, 154 Brockley Grove\, London\, SE4 1EB\, United Kingdom
CATEGORIES:Meeting
ORGANIZER;CN="Judith Seymour":MAILTO:judithseymour@hotmail.co.uk
END:VEVENT
BEGIN:VEVENT
DTSTART;TZID=Europe/London:20270317T193000
DTEND;TZID=Europe/London:20270317T210000
DTSTAMP:20260422T074702
CREATED:20240515T132203Z
LAST-MODIFIED:20240515T142847Z
UID:10000204-1805311800-1805317200@croftonpark.org.uk
SUMMARY:Bible study
DESCRIPTION:We meet every Wednesday evening in the church lounge for Bible study and fellowship. Except for the last Wednesday of the month when we gather for a prayer meeting. Please join us as we interrogate the scriptures and study the Word. All are welcome.
URL:https://croftonpark.org.uk/event/bible-study/2027-03-17/
LOCATION:Church lounge\, 154 Brockley Grove\, London\, SE4 1EB\, United Kingdom
CATEGORIES:Meeting
ATTACH;FMTTYPE=image/jpeg:https://croftonpark.org.uk/wp-content/uploads/2019/09/Salt-and-Light.jpg
END:VEVENT
BEGIN:VEVENT
DTSTART;TZID=Europe/London:20270324T193000
DTEND;TZID=Europe/London:20270324T210000
DTSTAMP:20260422T074702
CREATED:20240515T132203Z
LAST-MODIFIED:20240515T142847Z
UID:10000205-1805916600-1805922000@croftonpark.org.uk
SUMMARY:Bible study
DESCRIPTION:We meet every Wednesday evening in the church lounge for Bible study and fellowship. Except for the last Wednesday of the month when we gather for a prayer meeting. Please join us as we interrogate the scriptures and study the Word. All are welcome.
URL:https://croftonpark.org.uk/event/bible-study/2027-03-24/
LOCATION:Church lounge\, 154 Brockley Grove\, London\, SE4 1EB\, United Kingdom
CATEGORIES:Meeting
ATTACH;FMTTYPE=image/jpeg:https://croftonpark.org.uk/wp-content/uploads/2019/09/Salt-and-Light.jpg
END:VEVENT
BEGIN:VEVENT
DTSTART;TZID=Europe/London:20270407T193000
DTEND;TZID=Europe/London:20270407T210000
DTSTAMP:20260422T074702
CREATED:20240515T132203Z
LAST-MODIFIED:20240515T142847Z
UID:10000206-1807126200-1807131600@croftonpark.org.uk
SUMMARY:Bible study
DESCRIPTION:We meet every Wednesday evening in the church lounge for Bible study and fellowship. Except for the last Wednesday of the month when we gather for a prayer meeting. Please join us as we interrogate the scriptures and study the Word. All are welcome.
URL:https://croftonpark.org.uk/event/bible-study/2027-04-07/
LOCATION:Church lounge\, 154 Brockley Grove\, London\, SE4 1EB\, United Kingdom
CATEGORIES:Meeting
ATTACH;FMTTYPE=image/jpeg:https://croftonpark.org.uk/wp-content/uploads/2019/09/Salt-and-Light.jpg
END:VEVENT
BEGIN:VEVENT
DTSTART;TZID=Europe/London:20270410T103000
DTEND;TZID=Europe/London:20270410T120000
DTSTAMP:20260422T074702
CREATED:20240515T132444Z
LAST-MODIFIED:20250201T163453Z
UID:10000363-1807353000-1807358400@croftonpark.org.uk
SUMMARY:Monthly Saturday prayer meeting
DESCRIPTION:We meet in the lounge on the second Saturday of every month to prayer\, sing and meditate on scripture. Why not join us for a few hours of quiet fellowship in friendly company. We start at 10:30 and finish just before midday.
URL:https://croftonpark.org.uk/event/monthly-saturday-prayer-meeting/2027-04-10/
LOCATION:Crofton Park Baptist Church\, 154 Brockley Grove\, London\, SE4 1EB\, United Kingdom
CATEGORIES:Meeting
ORGANIZER;CN="Judith Seymour":MAILTO:judithseymour@hotmail.co.uk
END:VEVENT
BEGIN:VEVENT
DTSTART;TZID=Europe/London:20270414T193000
DTEND;TZID=Europe/London:20270414T210000
DTSTAMP:20260422T074703
CREATED:20240515T132203Z
LAST-MODIFIED:20240515T142847Z
UID:10000207-1807731000-1807736400@croftonpark.org.uk
SUMMARY:Bible study
DESCRIPTION:We meet every Wednesday evening in the church lounge for Bible study and fellowship. Except for the last Wednesday of the month when we gather for a prayer meeting. Please join us as we interrogate the scriptures and study the Word. All are welcome.
URL:https://croftonpark.org.uk/event/bible-study/2027-04-14/
LOCATION:Church lounge\, 154 Brockley Grove\, London\, SE4 1EB\, United Kingdom
CATEGORIES:Meeting
ATTACH;FMTTYPE=image/jpeg:https://croftonpark.org.uk/wp-content/uploads/2019/09/Salt-and-Light.jpg
END:VEVENT
BEGIN:VEVENT
DTSTART;TZID=Europe/London:20270421T193000
DTEND;TZID=Europe/London:20270421T210000
DTSTAMP:20260422T074703
CREATED:20240515T132203Z
LAST-MODIFIED:20240515T142847Z
UID:10000208-1808335800-1808341200@croftonpark.org.uk
SUMMARY:Bible study
DESCRIPTION:We meet every Wednesday evening in the church lounge for Bible study and fellowship. Except for the last Wednesday of the month when we gather for a prayer meeting. Please join us as we interrogate the scriptures and study the Word. All are welcome.
URL:https://croftonpark.org.uk/event/bible-study/2027-04-21/
LOCATION:Church lounge\, 154 Brockley Grove\, London\, SE4 1EB\, United Kingdom
CATEGORIES:Meeting
ATTACH;FMTTYPE=image/jpeg:https://croftonpark.org.uk/wp-content/uploads/2019/09/Salt-and-Light.jpg
END:VEVENT
BEGIN:VEVENT
DTSTART;TZID=Europe/London:20270505T193000
DTEND;TZID=Europe/London:20270505T210000
DTSTAMP:20260422T074703
CREATED:20240515T132203Z
LAST-MODIFIED:20240515T142847Z
UID:10000209-1809545400-1809550800@croftonpark.org.uk
SUMMARY:Bible study
DESCRIPTION:We meet every Wednesday evening in the church lounge for Bible study and fellowship. Except for the last Wednesday of the month when we gather for a prayer meeting. Please join us as we interrogate the scriptures and study the Word. All are welcome.
URL:https://croftonpark.org.uk/event/bible-study/2027-05-05/
LOCATION:Church lounge\, 154 Brockley Grove\, London\, SE4 1EB\, United Kingdom
CATEGORIES:Meeting
ATTACH;FMTTYPE=image/jpeg:https://croftonpark.org.uk/wp-content/uploads/2019/09/Salt-and-Light.jpg
END:VEVENT
BEGIN:VEVENT
DTSTART;TZID=Europe/London:20270508T103000
DTEND;TZID=Europe/London:20270508T120000
DTSTAMP:20260422T074703
CREATED:20240515T132444Z
LAST-MODIFIED:20250201T163453Z
UID:10000364-1809772200-1809777600@croftonpark.org.uk
SUMMARY:Monthly Saturday prayer meeting
DESCRIPTION:We meet in the lounge on the second Saturday of every month to prayer\, sing and meditate on scripture. Why not join us for a few hours of quiet fellowship in friendly company. We start at 10:30 and finish just before midday.
URL:https://croftonpark.org.uk/event/monthly-saturday-prayer-meeting/2027-05-08/
LOCATION:Crofton Park Baptist Church\, 154 Brockley Grove\, London\, SE4 1EB\, United Kingdom
CATEGORIES:Meeting
ORGANIZER;CN="Judith Seymour":MAILTO:judithseymour@hotmail.co.uk
END:VEVENT
BEGIN:VEVENT
DTSTART;TZID=Europe/London:20270512T193000
DTEND;TZID=Europe/London:20270512T210000
DTSTAMP:20260422T074703
CREATED:20240515T132203Z
LAST-MODIFIED:20240515T142847Z
UID:10000210-1810150200-1810155600@croftonpark.org.uk
SUMMARY:Bible study
DESCRIPTION:We meet every Wednesday evening in the church lounge for Bible study and fellowship. Except for the last Wednesday of the month when we gather for a prayer meeting. Please join us as we interrogate the scriptures and study the Word. All are welcome.
URL:https://croftonpark.org.uk/event/bible-study/2027-05-12/
LOCATION:Church lounge\, 154 Brockley Grove\, London\, SE4 1EB\, United Kingdom
CATEGORIES:Meeting
ATTACH;FMTTYPE=image/jpeg:https://croftonpark.org.uk/wp-content/uploads/2019/09/Salt-and-Light.jpg
END:VEVENT
BEGIN:VEVENT
DTSTART;TZID=Europe/London:20270519T193000
DTEND;TZID=Europe/London:20270519T210000
DTSTAMP:20260422T074703
CREATED:20240515T132203Z
LAST-MODIFIED:20240515T142847Z
UID:10000211-1810755000-1810760400@croftonpark.org.uk
SUMMARY:Bible study
DESCRIPTION:We meet every Wednesday evening in the church lounge for Bible study and fellowship. Except for the last Wednesday of the month when we gather for a prayer meeting. Please join us as we interrogate the scriptures and study the Word. All are welcome.
URL:https://croftonpark.org.uk/event/bible-study/2027-05-19/
LOCATION:Church lounge\, 154 Brockley Grove\, London\, SE4 1EB\, United Kingdom
CATEGORIES:Meeting
ATTACH;FMTTYPE=image/jpeg:https://croftonpark.org.uk/wp-content/uploads/2019/09/Salt-and-Light.jpg
END:VEVENT
BEGIN:VEVENT
DTSTART;TZID=Europe/London:20270602T193000
DTEND;TZID=Europe/London:20270602T210000
DTSTAMP:20260422T074703
CREATED:20240515T132203Z
LAST-MODIFIED:20240515T142847Z
UID:10000212-1811964600-1811970000@croftonpark.org.uk
SUMMARY:Bible study
DESCRIPTION:We meet every Wednesday evening in the church lounge for Bible study and fellowship. Except for the last Wednesday of the month when we gather for a prayer meeting. Please join us as we interrogate the scriptures and study the Word. All are welcome.
URL:https://croftonpark.org.uk/event/bible-study/2027-06-02/
LOCATION:Church lounge\, 154 Brockley Grove\, London\, SE4 1EB\, United Kingdom
CATEGORIES:Meeting
ATTACH;FMTTYPE=image/jpeg:https://croftonpark.org.uk/wp-content/uploads/2019/09/Salt-and-Light.jpg
END:VEVENT
BEGIN:VEVENT
DTSTART;TZID=Europe/London:20270609T193000
DTEND;TZID=Europe/London:20270609T210000
DTSTAMP:20260422T074703
CREATED:20240515T132203Z
LAST-MODIFIED:20240515T142847Z
UID:10000213-1812569400-1812574800@croftonpark.org.uk
SUMMARY:Bible study
DESCRIPTION:We meet every Wednesday evening in the church lounge for Bible study and fellowship. Except for the last Wednesday of the month when we gather for a prayer meeting. Please join us as we interrogate the scriptures and study the Word. All are welcome.
URL:https://croftonpark.org.uk/event/bible-study/2027-06-09/
LOCATION:Church lounge\, 154 Brockley Grove\, London\, SE4 1EB\, United Kingdom
CATEGORIES:Meeting
ATTACH;FMTTYPE=image/jpeg:https://croftonpark.org.uk/wp-content/uploads/2019/09/Salt-and-Light.jpg
END:VEVENT
BEGIN:VEVENT
DTSTART;TZID=Europe/London:20270612T103000
DTEND;TZID=Europe/London:20270612T120000
DTSTAMP:20260422T074703
CREATED:20240515T132444Z
LAST-MODIFIED:20250201T163453Z
UID:10000365-1812796200-1812801600@croftonpark.org.uk
SUMMARY:Monthly Saturday prayer meeting
DESCRIPTION:We meet in the lounge on the second Saturday of every month to prayer\, sing and meditate on scripture. Why not join us for a few hours of quiet fellowship in friendly company. We start at 10:30 and finish just before midday.
URL:https://croftonpark.org.uk/event/monthly-saturday-prayer-meeting/2027-06-12/
LOCATION:Crofton Park Baptist Church\, 154 Brockley Grove\, London\, SE4 1EB\, United Kingdom
CATEGORIES:Meeting
ORGANIZER;CN="Judith Seymour":MAILTO:judithseymour@hotmail.co.uk
END:VEVENT
BEGIN:VEVENT
DTSTART;TZID=Europe/London:20270616T193000
DTEND;TZID=Europe/London:20270616T210000
DTSTAMP:20260422T074703
CREATED:20240515T132203Z
LAST-MODIFIED:20240515T142847Z
UID:10000214-1813174200-1813179600@croftonpark.org.uk
SUMMARY:Bible study
DESCRIPTION:We meet every Wednesday evening in the church lounge for Bible study and fellowship. Except for the last Wednesday of the month when we gather for a prayer meeting. Please join us as we interrogate the scriptures and study the Word. All are welcome.
URL:https://croftonpark.org.uk/event/bible-study/2027-06-16/
LOCATION:Church lounge\, 154 Brockley Grove\, London\, SE4 1EB\, United Kingdom
CATEGORIES:Meeting
ATTACH;FMTTYPE=image/jpeg:https://croftonpark.org.uk/wp-content/uploads/2019/09/Salt-and-Light.jpg
END:VEVENT
BEGIN:VEVENT
DTSTART;TZID=Europe/London:20270623T193000
DTEND;TZID=Europe/London:20270623T210000
DTSTAMP:20260422T074703
CREATED:20240515T132203Z
LAST-MODIFIED:20240515T142847Z
UID:10000215-1813779000-1813784400@croftonpark.org.uk
SUMMARY:Bible study
DESCRIPTION:We meet every Wednesday evening in the church lounge for Bible study and fellowship. Except for the last Wednesday of the month when we gather for a prayer meeting. Please join us as we interrogate the scriptures and study the Word. All are welcome.
URL:https://croftonpark.org.uk/event/bible-study/2027-06-23/
LOCATION:Church lounge\, 154 Brockley Grove\, London\, SE4 1EB\, United Kingdom
CATEGORIES:Meeting
ATTACH;FMTTYPE=image/jpeg:https://croftonpark.org.uk/wp-content/uploads/2019/09/Salt-and-Light.jpg
END:VEVENT
BEGIN:VEVENT
DTSTART;TZID=Europe/London:20270707T193000
DTEND;TZID=Europe/London:20270707T210000
DTSTAMP:20260422T074703
CREATED:20240515T132203Z
LAST-MODIFIED:20240515T142847Z
UID:10000216-1814988600-1814994000@croftonpark.org.uk
SUMMARY:Bible study
DESCRIPTION:We meet every Wednesday evening in the church lounge for Bible study and fellowship. Except for the last Wednesday of the month when we gather for a prayer meeting. Please join us as we interrogate the scriptures and study the Word. All are welcome.
URL:https://croftonpark.org.uk/event/bible-study/2027-07-07/
LOCATION:Church lounge\, 154 Brockley Grove\, London\, SE4 1EB\, United Kingdom
CATEGORIES:Meeting
ATTACH;FMTTYPE=image/jpeg:https://croftonpark.org.uk/wp-content/uploads/2019/09/Salt-and-Light.jpg
END:VEVENT
BEGIN:VEVENT
DTSTART;TZID=Europe/London:20270710T103000
DTEND;TZID=Europe/London:20270710T120000
DTSTAMP:20260422T074703
CREATED:20240515T132444Z
LAST-MODIFIED:20250201T163453Z
UID:10000366-1815215400-1815220800@croftonpark.org.uk
SUMMARY:Monthly Saturday prayer meeting
DESCRIPTION:We meet in the lounge on the second Saturday of every month to prayer\, sing and meditate on scripture. Why not join us for a few hours of quiet fellowship in friendly company. We start at 10:30 and finish just before midday.
URL:https://croftonpark.org.uk/event/monthly-saturday-prayer-meeting/2027-07-10/
LOCATION:Crofton Park Baptist Church\, 154 Brockley Grove\, London\, SE4 1EB\, United Kingdom
CATEGORIES:Meeting
ORGANIZER;CN="Judith Seymour":MAILTO:judithseymour@hotmail.co.uk
END:VEVENT
BEGIN:VEVENT
DTSTART;TZID=Europe/London:20270714T193000
DTEND;TZID=Europe/London:20270714T210000
DTSTAMP:20260422T074703
CREATED:20240515T132203Z
LAST-MODIFIED:20240515T142847Z
UID:10000217-1815593400-1815598800@croftonpark.org.uk
SUMMARY:Bible study
DESCRIPTION:We meet every Wednesday evening in the church lounge for Bible study and fellowship. Except for the last Wednesday of the month when we gather for a prayer meeting. Please join us as we interrogate the scriptures and study the Word. All are welcome.
URL:https://croftonpark.org.uk/event/bible-study/2027-07-14/
LOCATION:Church lounge\, 154 Brockley Grove\, London\, SE4 1EB\, United Kingdom
CATEGORIES:Meeting
ATTACH;FMTTYPE=image/jpeg:https://croftonpark.org.uk/wp-content/uploads/2019/09/Salt-and-Light.jpg
END:VEVENT
BEGIN:VEVENT
DTSTART;TZID=Europe/London:20270721T193000
DTEND;TZID=Europe/London:20270721T210000
DTSTAMP:20260422T074703
CREATED:20240515T132203Z
LAST-MODIFIED:20240515T142847Z
UID:10000218-1816198200-1816203600@croftonpark.org.uk
SUMMARY:Bible study
DESCRIPTION:We meet every Wednesday evening in the church lounge for Bible study and fellowship. Except for the last Wednesday of the month when we gather for a prayer meeting. Please join us as we interrogate the scriptures and study the Word. All are welcome.
URL:https://croftonpark.org.uk/event/bible-study/2027-07-21/
LOCATION:Church lounge\, 154 Brockley Grove\, London\, SE4 1EB\, United Kingdom
CATEGORIES:Meeting
ATTACH;FMTTYPE=image/jpeg:https://croftonpark.org.uk/wp-content/uploads/2019/09/Salt-and-Light.jpg
END:VEVENT
BEGIN:VEVENT
DTSTART;TZID=Europe/London:20270804T193000
DTEND;TZID=Europe/London:20270804T210000
DTSTAMP:20260422T074703
CREATED:20240515T132203Z
LAST-MODIFIED:20240515T142847Z
UID:10000219-1817407800-1817413200@croftonpark.org.uk
SUMMARY:Bible study
DESCRIPTION:We meet every Wednesday evening in the church lounge for Bible study and fellowship. Except for the last Wednesday of the month when we gather for a prayer meeting. Please join us as we interrogate the scriptures and study the Word. All are welcome.
URL:https://croftonpark.org.uk/event/bible-study/2027-08-04/
LOCATION:Church lounge\, 154 Brockley Grove\, London\, SE4 1EB\, United Kingdom
CATEGORIES:Meeting
ATTACH;FMTTYPE=image/jpeg:https://croftonpark.org.uk/wp-content/uploads/2019/09/Salt-and-Light.jpg
END:VEVENT
BEGIN:VEVENT
DTSTART;TZID=Europe/London:20270811T193000
DTEND;TZID=Europe/London:20270811T210000
DTSTAMP:20260422T074703
CREATED:20240515T132203Z
LAST-MODIFIED:20240515T142847Z
UID:10000220-1818012600-1818018000@croftonpark.org.uk
SUMMARY:Bible study
DESCRIPTION:We meet every Wednesday evening in the church lounge for Bible study and fellowship. Except for the last Wednesday of the month when we gather for a prayer meeting. Please join us as we interrogate the scriptures and study the Word. All are welcome.
URL:https://croftonpark.org.uk/event/bible-study/2027-08-11/
LOCATION:Church lounge\, 154 Brockley Grove\, London\, SE4 1EB\, United Kingdom
CATEGORIES:Meeting
ATTACH;FMTTYPE=image/jpeg:https://croftonpark.org.uk/wp-content/uploads/2019/09/Salt-and-Light.jpg
END:VEVENT
BEGIN:VEVENT
DTSTART;TZID=Europe/London:20270814T103000
DTEND;TZID=Europe/London:20270814T120000
DTSTAMP:20260422T074703
CREATED:20240515T132444Z
LAST-MODIFIED:20250201T163453Z
UID:10000367-1818239400-1818244800@croftonpark.org.uk
SUMMARY:Monthly Saturday prayer meeting
DESCRIPTION:We meet in the lounge on the second Saturday of every month to prayer\, sing and meditate on scripture. Why not join us for a few hours of quiet fellowship in friendly company. We start at 10:30 and finish just before midday.
URL:https://croftonpark.org.uk/event/monthly-saturday-prayer-meeting/2027-08-14/
LOCATION:Crofton Park Baptist Church\, 154 Brockley Grove\, London\, SE4 1EB\, United Kingdom
CATEGORIES:Meeting
ORGANIZER;CN="Judith Seymour":MAILTO:judithseymour@hotmail.co.uk
END:VEVENT
BEGIN:VEVENT
DTSTART;TZID=Europe/London:20270818T193000
DTEND;TZID=Europe/London:20270818T210000
DTSTAMP:20260422T074703
CREATED:20240515T132203Z
LAST-MODIFIED:20240515T142847Z
UID:10000221-1818617400-1818622800@croftonpark.org.uk
SUMMARY:Bible study
DESCRIPTION:We meet every Wednesday evening in the church lounge for Bible study and fellowship. Except for the last Wednesday of the month when we gather for a prayer meeting. Please join us as we interrogate the scriptures and study the Word. All are welcome.
URL:https://croftonpark.org.uk/event/bible-study/2027-08-18/
LOCATION:Church lounge\, 154 Brockley Grove\, London\, SE4 1EB\, United Kingdom
CATEGORIES:Meeting
ATTACH;FMTTYPE=image/jpeg:https://croftonpark.org.uk/wp-content/uploads/2019/09/Salt-and-Light.jpg
END:VEVENT
BEGIN:VEVENT
DTSTART;TZID=Europe/London:20270901T193000
DTEND;TZID=Europe/London:20270901T210000
DTSTAMP:20260422T074703
CREATED:20240515T132203Z
LAST-MODIFIED:20240515T142847Z
UID:10000222-1819827000-1819832400@croftonpark.org.uk
SUMMARY:Bible study
DESCRIPTION:We meet every Wednesday evening in the church lounge for Bible study and fellowship. Except for the last Wednesday of the month when we gather for a prayer meeting. Please join us as we interrogate the scriptures and study the Word. All are welcome.
URL:https://croftonpark.org.uk/event/bible-study/2027-09-01/
LOCATION:Church lounge\, 154 Brockley Grove\, London\, SE4 1EB\, United Kingdom
CATEGORIES:Meeting
ATTACH;FMTTYPE=image/jpeg:https://croftonpark.org.uk/wp-content/uploads/2019/09/Salt-and-Light.jpg
END:VEVENT
BEGIN:VEVENT
DTSTART;TZID=Europe/London:20270908T193000
DTEND;TZID=Europe/London:20270908T210000
DTSTAMP:20260422T074703
CREATED:20240515T132203Z
LAST-MODIFIED:20240515T142847Z
UID:10000223-1820431800-1820437200@croftonpark.org.uk
SUMMARY:Bible study
DESCRIPTION:We meet every Wednesday evening in the church lounge for Bible study and fellowship. Except for the last Wednesday of the month when we gather for a prayer meeting. Please join us as we interrogate the scriptures and study the Word. All are welcome.
URL:https://croftonpark.org.uk/event/bible-study/2027-09-08/
LOCATION:Church lounge\, 154 Brockley Grove\, London\, SE4 1EB\, United Kingdom
CATEGORIES:Meeting
ATTACH;FMTTYPE=image/jpeg:https://croftonpark.org.uk/wp-content/uploads/2019/09/Salt-and-Light.jpg
END:VEVENT
END:VCALENDAR