BEGIN:VCALENDAR
VERSION:2.0
PRODID:-//Crofton Park Baptist Church - ECPv6.15.20//NONSGML v1.0//EN
CALSCALE:GREGORIAN
METHOD:PUBLISH
X-ORIGINAL-URL:https://croftonpark.org.uk
X-WR-CALDESC:Events for Crofton Park Baptist Church
REFRESH-INTERVAL;VALUE=DURATION:PT1H
X-Robots-Tag:noindex
X-PUBLISHED-TTL:PT1H
BEGIN:VTIMEZONE
TZID:Europe/London
BEGIN:DAYLIGHT
TZOFFSETFROM:+0000
TZOFFSETTO:+0100
TZNAME:BST
DTSTART:20270328T010000
END:DAYLIGHT
BEGIN:STANDARD
TZOFFSETFROM:+0100
TZOFFSETTO:+0000
TZNAME:GMT
DTSTART:20271031T010000
END:STANDARD
BEGIN:DAYLIGHT
TZOFFSETFROM:+0000
TZOFFSETTO:+0100
TZNAME:BST
DTSTART:20280326T010000
END:DAYLIGHT
BEGIN:STANDARD
TZOFFSETFROM:+0100
TZOFFSETTO:+0000
TZNAME:GMT
DTSTART:20281029T010000
END:STANDARD
BEGIN:DAYLIGHT
TZOFFSETFROM:+0000
TZOFFSETTO:+0100
TZNAME:BST
DTSTART:20290325T010000
END:DAYLIGHT
BEGIN:STANDARD
TZOFFSETFROM:+0100
TZOFFSETTO:+0000
TZNAME:GMT
DTSTART:20291028T010000
END:STANDARD
BEGIN:DAYLIGHT
TZOFFSETFROM:+0000
TZOFFSETTO:+0100
TZNAME:BST
DTSTART:20300331T010000
END:DAYLIGHT
BEGIN:STANDARD
TZOFFSETFROM:+0100
TZOFFSETTO:+0000
TZNAME:GMT
DTSTART:20301027T010000
END:STANDARD
END:VTIMEZONE
BEGIN:VEVENT
DTSTART;TZID=Europe/London:20281004T193000
DTEND;TZID=Europe/London:20281004T210000
DTSTAMP:20260422T061509
CREATED:20240515T132203Z
LAST-MODIFIED:20240515T142847Z
UID:10000266-1854300600-1854306000@croftonpark.org.uk
SUMMARY:Bible study
DESCRIPTION:We meet every Wednesday evening in the church lounge for Bible study and fellowship. Except for the last Wednesday of the month when we gather for a prayer meeting. Please join us as we interrogate the scriptures and study the Word. All are welcome.
URL:https://croftonpark.org.uk/event/bible-study/2028-10-04/
LOCATION:Church lounge\, 154 Brockley Grove\, London\, SE4 1EB\, United Kingdom
CATEGORIES:Meeting
ATTACH;FMTTYPE=image/jpeg:https://croftonpark.org.uk/wp-content/uploads/2019/09/Salt-and-Light.jpg
END:VEVENT
BEGIN:VEVENT
DTSTART;TZID=Europe/London:20281011T193000
DTEND;TZID=Europe/London:20281011T210000
DTSTAMP:20260422T061509
CREATED:20240515T132203Z
LAST-MODIFIED:20240515T142847Z
UID:10000267-1854905400-1854910800@croftonpark.org.uk
SUMMARY:Bible study
DESCRIPTION:We meet every Wednesday evening in the church lounge for Bible study and fellowship. Except for the last Wednesday of the month when we gather for a prayer meeting. Please join us as we interrogate the scriptures and study the Word. All are welcome.
URL:https://croftonpark.org.uk/event/bible-study/2028-10-11/
LOCATION:Church lounge\, 154 Brockley Grove\, London\, SE4 1EB\, United Kingdom
CATEGORIES:Meeting
ATTACH;FMTTYPE=image/jpeg:https://croftonpark.org.uk/wp-content/uploads/2019/09/Salt-and-Light.jpg
END:VEVENT
BEGIN:VEVENT
DTSTART;TZID=Europe/London:20281014T103000
DTEND;TZID=Europe/London:20281014T120000
DTSTAMP:20260422T061509
CREATED:20240515T132444Z
LAST-MODIFIED:20250201T163453Z
UID:10000381-1855132200-1855137600@croftonpark.org.uk
SUMMARY:Monthly Saturday prayer meeting
DESCRIPTION:We meet in the lounge on the second Saturday of every month to prayer\, sing and meditate on scripture. Why not join us for a few hours of quiet fellowship in friendly company. We start at 10:30 and finish just before midday.
URL:https://croftonpark.org.uk/event/monthly-saturday-prayer-meeting/2028-10-14/
LOCATION:Crofton Park Baptist Church\, 154 Brockley Grove\, London\, SE4 1EB\, United Kingdom
CATEGORIES:Meeting
ORGANIZER;CN="Judith Seymour":MAILTO:judithseymour@hotmail.co.uk
END:VEVENT
BEGIN:VEVENT
DTSTART;TZID=Europe/London:20281018T193000
DTEND;TZID=Europe/London:20281018T210000
DTSTAMP:20260422T061509
CREATED:20240515T132203Z
LAST-MODIFIED:20240515T142847Z
UID:10000268-1855510200-1855515600@croftonpark.org.uk
SUMMARY:Bible study
DESCRIPTION:We meet every Wednesday evening in the church lounge for Bible study and fellowship. Except for the last Wednesday of the month when we gather for a prayer meeting. Please join us as we interrogate the scriptures and study the Word. All are welcome.
URL:https://croftonpark.org.uk/event/bible-study/2028-10-18/
LOCATION:Church lounge\, 154 Brockley Grove\, London\, SE4 1EB\, United Kingdom
CATEGORIES:Meeting
ATTACH;FMTTYPE=image/jpeg:https://croftonpark.org.uk/wp-content/uploads/2019/09/Salt-and-Light.jpg
END:VEVENT
BEGIN:VEVENT
DTSTART;TZID=Europe/London:20281101T193000
DTEND;TZID=Europe/London:20281101T210000
DTSTAMP:20260422T061509
CREATED:20240515T132203Z
LAST-MODIFIED:20240515T142847Z
UID:10000269-1856719800-1856725200@croftonpark.org.uk
SUMMARY:Bible study
DESCRIPTION:We meet every Wednesday evening in the church lounge for Bible study and fellowship. Except for the last Wednesday of the month when we gather for a prayer meeting. Please join us as we interrogate the scriptures and study the Word. All are welcome.
URL:https://croftonpark.org.uk/event/bible-study/2028-11-01/
LOCATION:Church lounge\, 154 Brockley Grove\, London\, SE4 1EB\, United Kingdom
CATEGORIES:Meeting
ATTACH;FMTTYPE=image/jpeg:https://croftonpark.org.uk/wp-content/uploads/2019/09/Salt-and-Light.jpg
END:VEVENT
BEGIN:VEVENT
DTSTART;TZID=Europe/London:20281108T193000
DTEND;TZID=Europe/London:20281108T210000
DTSTAMP:20260422T061509
CREATED:20240515T132203Z
LAST-MODIFIED:20240515T142847Z
UID:10000270-1857324600-1857330000@croftonpark.org.uk
SUMMARY:Bible study
DESCRIPTION:We meet every Wednesday evening in the church lounge for Bible study and fellowship. Except for the last Wednesday of the month when we gather for a prayer meeting. Please join us as we interrogate the scriptures and study the Word. All are welcome.
URL:https://croftonpark.org.uk/event/bible-study/2028-11-08/
LOCATION:Church lounge\, 154 Brockley Grove\, London\, SE4 1EB\, United Kingdom
CATEGORIES:Meeting
ATTACH;FMTTYPE=image/jpeg:https://croftonpark.org.uk/wp-content/uploads/2019/09/Salt-and-Light.jpg
END:VEVENT
BEGIN:VEVENT
DTSTART;TZID=Europe/London:20281111T103000
DTEND;TZID=Europe/London:20281111T120000
DTSTAMP:20260422T061509
CREATED:20240515T132444Z
LAST-MODIFIED:20250201T163453Z
UID:10000382-1857551400-1857556800@croftonpark.org.uk
SUMMARY:Monthly Saturday prayer meeting
DESCRIPTION:We meet in the lounge on the second Saturday of every month to prayer\, sing and meditate on scripture. Why not join us for a few hours of quiet fellowship in friendly company. We start at 10:30 and finish just before midday.
URL:https://croftonpark.org.uk/event/monthly-saturday-prayer-meeting/2028-11-11/
LOCATION:Crofton Park Baptist Church\, 154 Brockley Grove\, London\, SE4 1EB\, United Kingdom
CATEGORIES:Meeting
ORGANIZER;CN="Judith Seymour":MAILTO:judithseymour@hotmail.co.uk
END:VEVENT
BEGIN:VEVENT
DTSTART;TZID=Europe/London:20281115T193000
DTEND;TZID=Europe/London:20281115T210000
DTSTAMP:20260422T061509
CREATED:20240515T132203Z
LAST-MODIFIED:20240515T142847Z
UID:10000271-1857929400-1857934800@croftonpark.org.uk
SUMMARY:Bible study
DESCRIPTION:We meet every Wednesday evening in the church lounge for Bible study and fellowship. Except for the last Wednesday of the month when we gather for a prayer meeting. Please join us as we interrogate the scriptures and study the Word. All are welcome.
URL:https://croftonpark.org.uk/event/bible-study/2028-11-15/
LOCATION:Church lounge\, 154 Brockley Grove\, London\, SE4 1EB\, United Kingdom
CATEGORIES:Meeting
ATTACH;FMTTYPE=image/jpeg:https://croftonpark.org.uk/wp-content/uploads/2019/09/Salt-and-Light.jpg
END:VEVENT
BEGIN:VEVENT
DTSTART;TZID=Europe/London:20281122T193000
DTEND;TZID=Europe/London:20281122T210000
DTSTAMP:20260422T061509
CREATED:20240515T132203Z
LAST-MODIFIED:20240515T142847Z
UID:10000272-1858534200-1858539600@croftonpark.org.uk
SUMMARY:Bible study
DESCRIPTION:We meet every Wednesday evening in the church lounge for Bible study and fellowship. Except for the last Wednesday of the month when we gather for a prayer meeting. Please join us as we interrogate the scriptures and study the Word. All are welcome.
URL:https://croftonpark.org.uk/event/bible-study/2028-11-22/
LOCATION:Church lounge\, 154 Brockley Grove\, London\, SE4 1EB\, United Kingdom
CATEGORIES:Meeting
ATTACH;FMTTYPE=image/jpeg:https://croftonpark.org.uk/wp-content/uploads/2019/09/Salt-and-Light.jpg
END:VEVENT
BEGIN:VEVENT
DTSTART;TZID=Europe/London:20281206T193000
DTEND;TZID=Europe/London:20281206T210000
DTSTAMP:20260422T061509
CREATED:20240515T132203Z
LAST-MODIFIED:20240515T142847Z
UID:10000273-1859743800-1859749200@croftonpark.org.uk
SUMMARY:Bible study
DESCRIPTION:We meet every Wednesday evening in the church lounge for Bible study and fellowship. Except for the last Wednesday of the month when we gather for a prayer meeting. Please join us as we interrogate the scriptures and study the Word. All are welcome.
URL:https://croftonpark.org.uk/event/bible-study/2028-12-06/
LOCATION:Church lounge\, 154 Brockley Grove\, London\, SE4 1EB\, United Kingdom
CATEGORIES:Meeting
ATTACH;FMTTYPE=image/jpeg:https://croftonpark.org.uk/wp-content/uploads/2019/09/Salt-and-Light.jpg
END:VEVENT
BEGIN:VEVENT
DTSTART;TZID=Europe/London:20281209T103000
DTEND;TZID=Europe/London:20281209T120000
DTSTAMP:20260422T061509
CREATED:20240515T132444Z
LAST-MODIFIED:20250201T163453Z
UID:10000383-1859970600-1859976000@croftonpark.org.uk
SUMMARY:Monthly Saturday prayer meeting
DESCRIPTION:We meet in the lounge on the second Saturday of every month to prayer\, sing and meditate on scripture. Why not join us for a few hours of quiet fellowship in friendly company. We start at 10:30 and finish just before midday.
URL:https://croftonpark.org.uk/event/monthly-saturday-prayer-meeting/2028-12-09/
LOCATION:Crofton Park Baptist Church\, 154 Brockley Grove\, London\, SE4 1EB\, United Kingdom
CATEGORIES:Meeting
ORGANIZER;CN="Judith Seymour":MAILTO:judithseymour@hotmail.co.uk
END:VEVENT
BEGIN:VEVENT
DTSTART;TZID=Europe/London:20281213T193000
DTEND;TZID=Europe/London:20281213T210000
DTSTAMP:20260422T061509
CREATED:20240515T132203Z
LAST-MODIFIED:20240515T142847Z
UID:10000274-1860348600-1860354000@croftonpark.org.uk
SUMMARY:Bible study
DESCRIPTION:We meet every Wednesday evening in the church lounge for Bible study and fellowship. Except for the last Wednesday of the month when we gather for a prayer meeting. Please join us as we interrogate the scriptures and study the Word. All are welcome.
URL:https://croftonpark.org.uk/event/bible-study/2028-12-13/
LOCATION:Church lounge\, 154 Brockley Grove\, London\, SE4 1EB\, United Kingdom
CATEGORIES:Meeting
ATTACH;FMTTYPE=image/jpeg:https://croftonpark.org.uk/wp-content/uploads/2019/09/Salt-and-Light.jpg
END:VEVENT
BEGIN:VEVENT
DTSTART;TZID=Europe/London:20281220T193000
DTEND;TZID=Europe/London:20281220T210000
DTSTAMP:20260422T061509
CREATED:20240515T132203Z
LAST-MODIFIED:20240515T142847Z
UID:10000275-1860953400-1860958800@croftonpark.org.uk
SUMMARY:Bible study
DESCRIPTION:We meet every Wednesday evening in the church lounge for Bible study and fellowship. Except for the last Wednesday of the month when we gather for a prayer meeting. Please join us as we interrogate the scriptures and study the Word. All are welcome.
URL:https://croftonpark.org.uk/event/bible-study/2028-12-20/
LOCATION:Church lounge\, 154 Brockley Grove\, London\, SE4 1EB\, United Kingdom
CATEGORIES:Meeting
ATTACH;FMTTYPE=image/jpeg:https://croftonpark.org.uk/wp-content/uploads/2019/09/Salt-and-Light.jpg
END:VEVENT
BEGIN:VEVENT
DTSTART;TZID=Europe/London:20290103T193000
DTEND;TZID=Europe/London:20290103T210000
DTSTAMP:20260422T061509
CREATED:20240515T132203Z
LAST-MODIFIED:20240515T142847Z
UID:10000276-1862163000-1862168400@croftonpark.org.uk
SUMMARY:Bible study
DESCRIPTION:We meet every Wednesday evening in the church lounge for Bible study and fellowship. Except for the last Wednesday of the month when we gather for a prayer meeting. Please join us as we interrogate the scriptures and study the Word. All are welcome.
URL:https://croftonpark.org.uk/event/bible-study/2029-01-03/
LOCATION:Church lounge\, 154 Brockley Grove\, London\, SE4 1EB\, United Kingdom
CATEGORIES:Meeting
ATTACH;FMTTYPE=image/jpeg:https://croftonpark.org.uk/wp-content/uploads/2019/09/Salt-and-Light.jpg
END:VEVENT
BEGIN:VEVENT
DTSTART;TZID=Europe/London:20290110T193000
DTEND;TZID=Europe/London:20290110T210000
DTSTAMP:20260422T061509
CREATED:20240515T132203Z
LAST-MODIFIED:20240515T142847Z
UID:10000277-1862767800-1862773200@croftonpark.org.uk
SUMMARY:Bible study
DESCRIPTION:We meet every Wednesday evening in the church lounge for Bible study and fellowship. Except for the last Wednesday of the month when we gather for a prayer meeting. Please join us as we interrogate the scriptures and study the Word. All are welcome.
URL:https://croftonpark.org.uk/event/bible-study/2029-01-10/
LOCATION:Church lounge\, 154 Brockley Grove\, London\, SE4 1EB\, United Kingdom
CATEGORIES:Meeting
ATTACH;FMTTYPE=image/jpeg:https://croftonpark.org.uk/wp-content/uploads/2019/09/Salt-and-Light.jpg
END:VEVENT
BEGIN:VEVENT
DTSTART;TZID=Europe/London:20290113T103000
DTEND;TZID=Europe/London:20290113T120000
DTSTAMP:20260422T061509
CREATED:20240515T132444Z
LAST-MODIFIED:20250201T163453Z
UID:10000384-1862994600-1863000000@croftonpark.org.uk
SUMMARY:Monthly Saturday prayer meeting
DESCRIPTION:We meet in the lounge on the second Saturday of every month to prayer\, sing and meditate on scripture. Why not join us for a few hours of quiet fellowship in friendly company. We start at 10:30 and finish just before midday.
URL:https://croftonpark.org.uk/event/monthly-saturday-prayer-meeting/2029-01-13/
LOCATION:Crofton Park Baptist Church\, 154 Brockley Grove\, London\, SE4 1EB\, United Kingdom
CATEGORIES:Meeting
ORGANIZER;CN="Judith Seymour":MAILTO:judithseymour@hotmail.co.uk
END:VEVENT
BEGIN:VEVENT
DTSTART;TZID=Europe/London:20290117T193000
DTEND;TZID=Europe/London:20290117T210000
DTSTAMP:20260422T061509
CREATED:20240515T132203Z
LAST-MODIFIED:20240515T142847Z
UID:10000278-1863372600-1863378000@croftonpark.org.uk
SUMMARY:Bible study
DESCRIPTION:We meet every Wednesday evening in the church lounge for Bible study and fellowship. Except for the last Wednesday of the month when we gather for a prayer meeting. Please join us as we interrogate the scriptures and study the Word. All are welcome.
URL:https://croftonpark.org.uk/event/bible-study/2029-01-17/
LOCATION:Church lounge\, 154 Brockley Grove\, London\, SE4 1EB\, United Kingdom
CATEGORIES:Meeting
ATTACH;FMTTYPE=image/jpeg:https://croftonpark.org.uk/wp-content/uploads/2019/09/Salt-and-Light.jpg
END:VEVENT
BEGIN:VEVENT
DTSTART;TZID=Europe/London:20290124T193000
DTEND;TZID=Europe/London:20290124T210000
DTSTAMP:20260422T061509
CREATED:20240515T132203Z
LAST-MODIFIED:20240515T142847Z
UID:10000279-1863977400-1863982800@croftonpark.org.uk
SUMMARY:Bible study
DESCRIPTION:We meet every Wednesday evening in the church lounge for Bible study and fellowship. Except for the last Wednesday of the month when we gather for a prayer meeting. Please join us as we interrogate the scriptures and study the Word. All are welcome.
URL:https://croftonpark.org.uk/event/bible-study/2029-01-24/
LOCATION:Church lounge\, 154 Brockley Grove\, London\, SE4 1EB\, United Kingdom
CATEGORIES:Meeting
ATTACH;FMTTYPE=image/jpeg:https://croftonpark.org.uk/wp-content/uploads/2019/09/Salt-and-Light.jpg
END:VEVENT
BEGIN:VEVENT
DTSTART;TZID=Europe/London:20290207T193000
DTEND;TZID=Europe/London:20290207T210000
DTSTAMP:20260422T061509
CREATED:20240515T132203Z
LAST-MODIFIED:20240515T142847Z
UID:10000280-1865187000-1865192400@croftonpark.org.uk
SUMMARY:Bible study
DESCRIPTION:We meet every Wednesday evening in the church lounge for Bible study and fellowship. Except for the last Wednesday of the month when we gather for a prayer meeting. Please join us as we interrogate the scriptures and study the Word. All are welcome.
URL:https://croftonpark.org.uk/event/bible-study/2029-02-07/
LOCATION:Church lounge\, 154 Brockley Grove\, London\, SE4 1EB\, United Kingdom
CATEGORIES:Meeting
ATTACH;FMTTYPE=image/jpeg:https://croftonpark.org.uk/wp-content/uploads/2019/09/Salt-and-Light.jpg
END:VEVENT
BEGIN:VEVENT
DTSTART;TZID=Europe/London:20290210T103000
DTEND;TZID=Europe/London:20290210T120000
DTSTAMP:20260422T061509
CREATED:20240515T132444Z
LAST-MODIFIED:20250201T163453Z
UID:10000385-1865413800-1865419200@croftonpark.org.uk
SUMMARY:Monthly Saturday prayer meeting
DESCRIPTION:We meet in the lounge on the second Saturday of every month to prayer\, sing and meditate on scripture. Why not join us for a few hours of quiet fellowship in friendly company. We start at 10:30 and finish just before midday.
URL:https://croftonpark.org.uk/event/monthly-saturday-prayer-meeting/2029-02-10/
LOCATION:Crofton Park Baptist Church\, 154 Brockley Grove\, London\, SE4 1EB\, United Kingdom
CATEGORIES:Meeting
ORGANIZER;CN="Judith Seymour":MAILTO:judithseymour@hotmail.co.uk
END:VEVENT
BEGIN:VEVENT
DTSTART;TZID=Europe/London:20290214T193000
DTEND;TZID=Europe/London:20290214T210000
DTSTAMP:20260422T061509
CREATED:20240515T132203Z
LAST-MODIFIED:20240515T142847Z
UID:10000281-1865791800-1865797200@croftonpark.org.uk
SUMMARY:Bible study
DESCRIPTION:We meet every Wednesday evening in the church lounge for Bible study and fellowship. Except for the last Wednesday of the month when we gather for a prayer meeting. Please join us as we interrogate the scriptures and study the Word. All are welcome.
URL:https://croftonpark.org.uk/event/bible-study/2029-02-14/
LOCATION:Church lounge\, 154 Brockley Grove\, London\, SE4 1EB\, United Kingdom
CATEGORIES:Meeting
ATTACH;FMTTYPE=image/jpeg:https://croftonpark.org.uk/wp-content/uploads/2019/09/Salt-and-Light.jpg
END:VEVENT
BEGIN:VEVENT
DTSTART;TZID=Europe/London:20290221T193000
DTEND;TZID=Europe/London:20290221T210000
DTSTAMP:20260422T061509
CREATED:20240515T132203Z
LAST-MODIFIED:20240515T142847Z
UID:10000282-1866396600-1866402000@croftonpark.org.uk
SUMMARY:Bible study
DESCRIPTION:We meet every Wednesday evening in the church lounge for Bible study and fellowship. Except for the last Wednesday of the month when we gather for a prayer meeting. Please join us as we interrogate the scriptures and study the Word. All are welcome.
URL:https://croftonpark.org.uk/event/bible-study/2029-02-21/
LOCATION:Church lounge\, 154 Brockley Grove\, London\, SE4 1EB\, United Kingdom
CATEGORIES:Meeting
ATTACH;FMTTYPE=image/jpeg:https://croftonpark.org.uk/wp-content/uploads/2019/09/Salt-and-Light.jpg
END:VEVENT
BEGIN:VEVENT
DTSTART;TZID=Europe/London:20290307T193000
DTEND;TZID=Europe/London:20290307T210000
DTSTAMP:20260422T061509
CREATED:20240515T132203Z
LAST-MODIFIED:20240515T142847Z
UID:10000283-1867606200-1867611600@croftonpark.org.uk
SUMMARY:Bible study
DESCRIPTION:We meet every Wednesday evening in the church lounge for Bible study and fellowship. Except for the last Wednesday of the month when we gather for a prayer meeting. Please join us as we interrogate the scriptures and study the Word. All are welcome.
URL:https://croftonpark.org.uk/event/bible-study/2029-03-07/
LOCATION:Church lounge\, 154 Brockley Grove\, London\, SE4 1EB\, United Kingdom
CATEGORIES:Meeting
ATTACH;FMTTYPE=image/jpeg:https://croftonpark.org.uk/wp-content/uploads/2019/09/Salt-and-Light.jpg
END:VEVENT
BEGIN:VEVENT
DTSTART;TZID=Europe/London:20290310T103000
DTEND;TZID=Europe/London:20290310T120000
DTSTAMP:20260422T061509
CREATED:20240515T132444Z
LAST-MODIFIED:20250201T163453Z
UID:10000386-1867833000-1867838400@croftonpark.org.uk
SUMMARY:Monthly Saturday prayer meeting
DESCRIPTION:We meet in the lounge on the second Saturday of every month to prayer\, sing and meditate on scripture. Why not join us for a few hours of quiet fellowship in friendly company. We start at 10:30 and finish just before midday.
URL:https://croftonpark.org.uk/event/monthly-saturday-prayer-meeting/2029-03-10/
LOCATION:Crofton Park Baptist Church\, 154 Brockley Grove\, London\, SE4 1EB\, United Kingdom
CATEGORIES:Meeting
ORGANIZER;CN="Judith Seymour":MAILTO:judithseymour@hotmail.co.uk
END:VEVENT
BEGIN:VEVENT
DTSTART;TZID=Europe/London:20290314T193000
DTEND;TZID=Europe/London:20290314T210000
DTSTAMP:20260422T061509
CREATED:20240515T132203Z
LAST-MODIFIED:20240515T142847Z
UID:10000284-1868211000-1868216400@croftonpark.org.uk
SUMMARY:Bible study
DESCRIPTION:We meet every Wednesday evening in the church lounge for Bible study and fellowship. Except for the last Wednesday of the month when we gather for a prayer meeting. Please join us as we interrogate the scriptures and study the Word. All are welcome.
URL:https://croftonpark.org.uk/event/bible-study/2029-03-14/
LOCATION:Church lounge\, 154 Brockley Grove\, London\, SE4 1EB\, United Kingdom
CATEGORIES:Meeting
ATTACH;FMTTYPE=image/jpeg:https://croftonpark.org.uk/wp-content/uploads/2019/09/Salt-and-Light.jpg
END:VEVENT
BEGIN:VEVENT
DTSTART;TZID=Europe/London:20290321T193000
DTEND;TZID=Europe/London:20290321T210000
DTSTAMP:20260422T061509
CREATED:20240515T132203Z
LAST-MODIFIED:20240515T142847Z
UID:10000285-1868815800-1868821200@croftonpark.org.uk
SUMMARY:Bible study
DESCRIPTION:We meet every Wednesday evening in the church lounge for Bible study and fellowship. Except for the last Wednesday of the month when we gather for a prayer meeting. Please join us as we interrogate the scriptures and study the Word. All are welcome.
URL:https://croftonpark.org.uk/event/bible-study/2029-03-21/
LOCATION:Church lounge\, 154 Brockley Grove\, London\, SE4 1EB\, United Kingdom
CATEGORIES:Meeting
ATTACH;FMTTYPE=image/jpeg:https://croftonpark.org.uk/wp-content/uploads/2019/09/Salt-and-Light.jpg
END:VEVENT
BEGIN:VEVENT
DTSTART;TZID=Europe/London:20290404T193000
DTEND;TZID=Europe/London:20290404T210000
DTSTAMP:20260422T061509
CREATED:20240515T132203Z
LAST-MODIFIED:20240515T142847Z
UID:10000286-1870025400-1870030800@croftonpark.org.uk
SUMMARY:Bible study
DESCRIPTION:We meet every Wednesday evening in the church lounge for Bible study and fellowship. Except for the last Wednesday of the month when we gather for a prayer meeting. Please join us as we interrogate the scriptures and study the Word. All are welcome.
URL:https://croftonpark.org.uk/event/bible-study/2029-04-04/
LOCATION:Church lounge\, 154 Brockley Grove\, London\, SE4 1EB\, United Kingdom
CATEGORIES:Meeting
ATTACH;FMTTYPE=image/jpeg:https://croftonpark.org.uk/wp-content/uploads/2019/09/Salt-and-Light.jpg
END:VEVENT
BEGIN:VEVENT
DTSTART;TZID=Europe/London:20290411T193000
DTEND;TZID=Europe/London:20290411T210000
DTSTAMP:20260422T061509
CREATED:20240515T132203Z
LAST-MODIFIED:20240515T142847Z
UID:10000287-1870630200-1870635600@croftonpark.org.uk
SUMMARY:Bible study
DESCRIPTION:We meet every Wednesday evening in the church lounge for Bible study and fellowship. Except for the last Wednesday of the month when we gather for a prayer meeting. Please join us as we interrogate the scriptures and study the Word. All are welcome.
URL:https://croftonpark.org.uk/event/bible-study/2029-04-11/
LOCATION:Church lounge\, 154 Brockley Grove\, London\, SE4 1EB\, United Kingdom
CATEGORIES:Meeting
ATTACH;FMTTYPE=image/jpeg:https://croftonpark.org.uk/wp-content/uploads/2019/09/Salt-and-Light.jpg
END:VEVENT
BEGIN:VEVENT
DTSTART;TZID=Europe/London:20290414T103000
DTEND;TZID=Europe/London:20290414T120000
DTSTAMP:20260422T061509
CREATED:20240515T132444Z
LAST-MODIFIED:20250201T163453Z
UID:10000387-1870857000-1870862400@croftonpark.org.uk
SUMMARY:Monthly Saturday prayer meeting
DESCRIPTION:We meet in the lounge on the second Saturday of every month to prayer\, sing and meditate on scripture. Why not join us for a few hours of quiet fellowship in friendly company. We start at 10:30 and finish just before midday.
URL:https://croftonpark.org.uk/event/monthly-saturday-prayer-meeting/2029-04-14/
LOCATION:Crofton Park Baptist Church\, 154 Brockley Grove\, London\, SE4 1EB\, United Kingdom
CATEGORIES:Meeting
ORGANIZER;CN="Judith Seymour":MAILTO:judithseymour@hotmail.co.uk
END:VEVENT
BEGIN:VEVENT
DTSTART;TZID=Europe/London:20290418T193000
DTEND;TZID=Europe/London:20290418T210000
DTSTAMP:20260422T061509
CREATED:20240515T132203Z
LAST-MODIFIED:20240515T142847Z
UID:10000288-1871235000-1871240400@croftonpark.org.uk
SUMMARY:Bible study
DESCRIPTION:We meet every Wednesday evening in the church lounge for Bible study and fellowship. Except for the last Wednesday of the month when we gather for a prayer meeting. Please join us as we interrogate the scriptures and study the Word. All are welcome.
URL:https://croftonpark.org.uk/event/bible-study/2029-04-18/
LOCATION:Church lounge\, 154 Brockley Grove\, London\, SE4 1EB\, United Kingdom
CATEGORIES:Meeting
ATTACH;FMTTYPE=image/jpeg:https://croftonpark.org.uk/wp-content/uploads/2019/09/Salt-and-Light.jpg
END:VEVENT
END:VCALENDAR