BEGIN:VCALENDAR
VERSION:2.0
PRODID:-//Crofton Park Baptist Church - ECPv6.15.20//NONSGML v1.0//EN
CALSCALE:GREGORIAN
METHOD:PUBLISH
X-ORIGINAL-URL:https://croftonpark.org.uk
X-WR-CALDESC:Events for Crofton Park Baptist Church
REFRESH-INTERVAL;VALUE=DURATION:PT1H
X-Robots-Tag:noindex
X-PUBLISHED-TTL:PT1H
BEGIN:VTIMEZONE
TZID:Europe/London
BEGIN:DAYLIGHT
TZOFFSETFROM:+0000
TZOFFSETTO:+0100
TZNAME:BST
DTSTART:20250330T010000
END:DAYLIGHT
BEGIN:STANDARD
TZOFFSETFROM:+0100
TZOFFSETTO:+0000
TZNAME:GMT
DTSTART:20251026T010000
END:STANDARD
BEGIN:DAYLIGHT
TZOFFSETFROM:+0000
TZOFFSETTO:+0100
TZNAME:BST
DTSTART:20260329T010000
END:DAYLIGHT
BEGIN:STANDARD
TZOFFSETFROM:+0100
TZOFFSETTO:+0000
TZNAME:GMT
DTSTART:20261025T010000
END:STANDARD
BEGIN:DAYLIGHT
TZOFFSETFROM:+0000
TZOFFSETTO:+0100
TZNAME:BST
DTSTART:20270328T010000
END:DAYLIGHT
BEGIN:STANDARD
TZOFFSETFROM:+0100
TZOFFSETTO:+0000
TZNAME:GMT
DTSTART:20271031T010000
END:STANDARD
BEGIN:DAYLIGHT
TZOFFSETFROM:+0000
TZOFFSETTO:+0100
TZNAME:BST
DTSTART:20280326T010000
END:DAYLIGHT
BEGIN:STANDARD
TZOFFSETFROM:+0100
TZOFFSETTO:+0000
TZNAME:GMT
DTSTART:20281029T010000
END:STANDARD
END:VTIMEZONE
BEGIN:VEVENT
DTSTART;TZID=Europe/London:20260805T193000
DTEND;TZID=Europe/London:20260805T210000
DTSTAMP:20260422T031650
CREATED:20240515T132203Z
LAST-MODIFIED:20240515T142847Z
UID:10000179-1785958200-1785963600@croftonpark.org.uk
SUMMARY:Bible study
DESCRIPTION:We meet every Wednesday evening in the church lounge for Bible study and fellowship. Except for the last Wednesday of the month when we gather for a prayer meeting. Please join us as we interrogate the scriptures and study the Word. All are welcome.
URL:https://croftonpark.org.uk/event/bible-study/2026-08-05/
LOCATION:Church lounge\, 154 Brockley Grove\, London\, SE4 1EB\, United Kingdom
CATEGORIES:Meeting
ATTACH;FMTTYPE=image/jpeg:https://croftonpark.org.uk/wp-content/uploads/2019/09/Salt-and-Light.jpg
END:VEVENT
BEGIN:VEVENT
DTSTART;TZID=Europe/London:20260808T103000
DTEND;TZID=Europe/London:20260808T120000
DTSTAMP:20260422T031651
CREATED:20240515T132444Z
LAST-MODIFIED:20250201T163453Z
UID:10000355-1786185000-1786190400@croftonpark.org.uk
SUMMARY:Monthly Saturday prayer meeting
DESCRIPTION:We meet in the lounge on the second Saturday of every month to prayer\, sing and meditate on scripture. Why not join us for a few hours of quiet fellowship in friendly company. We start at 10:30 and finish just before midday.
URL:https://croftonpark.org.uk/event/monthly-saturday-prayer-meeting/2026-08-08/
LOCATION:Crofton Park Baptist Church\, 154 Brockley Grove\, London\, SE4 1EB\, United Kingdom
CATEGORIES:Meeting
ORGANIZER;CN="Judith Seymour":MAILTO:judithseymour@hotmail.co.uk
END:VEVENT
BEGIN:VEVENT
DTSTART;TZID=Europe/London:20260812T193000
DTEND;TZID=Europe/London:20260812T210000
DTSTAMP:20260422T031651
CREATED:20240515T132203Z
LAST-MODIFIED:20240515T142847Z
UID:10000180-1786563000-1786568400@croftonpark.org.uk
SUMMARY:Bible study
DESCRIPTION:We meet every Wednesday evening in the church lounge for Bible study and fellowship. Except for the last Wednesday of the month when we gather for a prayer meeting. Please join us as we interrogate the scriptures and study the Word. All are welcome.
URL:https://croftonpark.org.uk/event/bible-study/2026-08-12/
LOCATION:Church lounge\, 154 Brockley Grove\, London\, SE4 1EB\, United Kingdom
CATEGORIES:Meeting
ATTACH;FMTTYPE=image/jpeg:https://croftonpark.org.uk/wp-content/uploads/2019/09/Salt-and-Light.jpg
END:VEVENT
BEGIN:VEVENT
DTSTART;TZID=Europe/London:20260819T193000
DTEND;TZID=Europe/London:20260819T210000
DTSTAMP:20260422T031651
CREATED:20240515T132203Z
LAST-MODIFIED:20240515T142847Z
UID:10000181-1787167800-1787173200@croftonpark.org.uk
SUMMARY:Bible study
DESCRIPTION:We meet every Wednesday evening in the church lounge for Bible study and fellowship. Except for the last Wednesday of the month when we gather for a prayer meeting. Please join us as we interrogate the scriptures and study the Word. All are welcome.
URL:https://croftonpark.org.uk/event/bible-study/2026-08-19/
LOCATION:Church lounge\, 154 Brockley Grove\, London\, SE4 1EB\, United Kingdom
CATEGORIES:Meeting
ATTACH;FMTTYPE=image/jpeg:https://croftonpark.org.uk/wp-content/uploads/2019/09/Salt-and-Light.jpg
END:VEVENT
BEGIN:VEVENT
DTSTART;TZID=Europe/London:20260825T193000
DTEND;TZID=Europe/London:20260825T203000
DTSTAMP:20260422T031651
CREATED:20250323T111300Z
LAST-MODIFIED:20250323T111300Z
UID:10000597-1787686200-1787689800@croftonpark.org.uk
SUMMARY:Leadership Prayer Meeting
DESCRIPTION:There will be a Leadership Prayer Meeting on the last Tuesday of the month in the lounge at 7:30pm. At this time we take a break from discussing the “business of church” to take time to meditate\, pray and listen to the Word of God.
URL:https://croftonpark.org.uk/event/leadership-prayer-meeting/2026-08-25/
LOCATION:Crofton Park Baptist Church\, 154 Brockley Grove\, London\, SE4 1EB\, United Kingdom
ORGANIZER;CN="Clement Oke":MAILTO:clement.oke@croftonpark.org.uk
END:VEVENT
BEGIN:VEVENT
DTSTART;TZID=Europe/London:20260826T080000
DTEND;TZID=Europe/London:20260826T170000
DTSTAMP:20260422T031651
CREATED:20240915T182258Z
LAST-MODIFIED:20240915T182258Z
UID:10000332-1787731200-1787763600@croftonpark.org.uk
SUMMARY:Monthly Wednesday prayer meeting
DESCRIPTION:Join us for our monthly prayer meeting every last Wednesday of the month at 7:30 p.m. in the church sanctuary. This is a dedicated time to come together in prayer\, seek God’s guidance\, and uplift our community and world. All are welcome to participate as we unite in faith and fellowship.
URL:https://croftonpark.org.uk/event/monthly-wednesday-prayer-meeting/2026-08-26/
LOCATION:Crofton Park Baptist Church\, 154 Brockley Grove\, London\, SE4 1EB\, United Kingdom
CATEGORIES:Meeting
ATTACH;FMTTYPE=image/jpeg:https://croftonpark.org.uk/wp-content/uploads/2018/08/group-prayer-mailchimp.jpg
ORGANIZER;CN="Judith Seymour":MAILTO:judithseymour@hotmail.co.uk
END:VEVENT
BEGIN:VEVENT
DTSTART;TZID=Europe/London:20260902T193000
DTEND;TZID=Europe/London:20260902T210000
DTSTAMP:20260422T031651
CREATED:20240515T132203Z
LAST-MODIFIED:20240515T142847Z
UID:10000182-1788377400-1788382800@croftonpark.org.uk
SUMMARY:Bible study
DESCRIPTION:We meet every Wednesday evening in the church lounge for Bible study and fellowship. Except for the last Wednesday of the month when we gather for a prayer meeting. Please join us as we interrogate the scriptures and study the Word. All are welcome.
URL:https://croftonpark.org.uk/event/bible-study/2026-09-02/
LOCATION:Church lounge\, 154 Brockley Grove\, London\, SE4 1EB\, United Kingdom
CATEGORIES:Meeting
ATTACH;FMTTYPE=image/jpeg:https://croftonpark.org.uk/wp-content/uploads/2019/09/Salt-and-Light.jpg
END:VEVENT
BEGIN:VEVENT
DTSTART;TZID=Europe/London:20260909T193000
DTEND;TZID=Europe/London:20260909T210000
DTSTAMP:20260422T031651
CREATED:20240515T132203Z
LAST-MODIFIED:20240515T142847Z
UID:10000183-1788982200-1788987600@croftonpark.org.uk
SUMMARY:Bible study
DESCRIPTION:We meet every Wednesday evening in the church lounge for Bible study and fellowship. Except for the last Wednesday of the month when we gather for a prayer meeting. Please join us as we interrogate the scriptures and study the Word. All are welcome.
URL:https://croftonpark.org.uk/event/bible-study/2026-09-09/
LOCATION:Church lounge\, 154 Brockley Grove\, London\, SE4 1EB\, United Kingdom
CATEGORIES:Meeting
ATTACH;FMTTYPE=image/jpeg:https://croftonpark.org.uk/wp-content/uploads/2019/09/Salt-and-Light.jpg
END:VEVENT
BEGIN:VEVENT
DTSTART;TZID=Europe/London:20260912T103000
DTEND;TZID=Europe/London:20260912T120000
DTSTAMP:20260422T031651
CREATED:20240515T132444Z
LAST-MODIFIED:20250201T163453Z
UID:10000356-1789209000-1789214400@croftonpark.org.uk
SUMMARY:Monthly Saturday prayer meeting
DESCRIPTION:We meet in the lounge on the second Saturday of every month to prayer\, sing and meditate on scripture. Why not join us for a few hours of quiet fellowship in friendly company. We start at 10:30 and finish just before midday.
URL:https://croftonpark.org.uk/event/monthly-saturday-prayer-meeting/2026-09-12/
LOCATION:Crofton Park Baptist Church\, 154 Brockley Grove\, London\, SE4 1EB\, United Kingdom
CATEGORIES:Meeting
ORGANIZER;CN="Judith Seymour":MAILTO:judithseymour@hotmail.co.uk
END:VEVENT
BEGIN:VEVENT
DTSTART;TZID=Europe/London:20260916T193000
DTEND;TZID=Europe/London:20260916T210000
DTSTAMP:20260422T031651
CREATED:20240515T132203Z
LAST-MODIFIED:20240515T142847Z
UID:10000184-1789587000-1789592400@croftonpark.org.uk
SUMMARY:Bible study
DESCRIPTION:We meet every Wednesday evening in the church lounge for Bible study and fellowship. Except for the last Wednesday of the month when we gather for a prayer meeting. Please join us as we interrogate the scriptures and study the Word. All are welcome.
URL:https://croftonpark.org.uk/event/bible-study/2026-09-16/
LOCATION:Church lounge\, 154 Brockley Grove\, London\, SE4 1EB\, United Kingdom
CATEGORIES:Meeting
ATTACH;FMTTYPE=image/jpeg:https://croftonpark.org.uk/wp-content/uploads/2019/09/Salt-and-Light.jpg
END:VEVENT
BEGIN:VEVENT
DTSTART;TZID=Europe/London:20260923T193000
DTEND;TZID=Europe/London:20260923T210000
DTSTAMP:20260422T031651
CREATED:20240515T132203Z
LAST-MODIFIED:20240515T142847Z
UID:10000185-1790191800-1790197200@croftonpark.org.uk
SUMMARY:Bible study
DESCRIPTION:We meet every Wednesday evening in the church lounge for Bible study and fellowship. Except for the last Wednesday of the month when we gather for a prayer meeting. Please join us as we interrogate the scriptures and study the Word. All are welcome.
URL:https://croftonpark.org.uk/event/bible-study/2026-09-23/
LOCATION:Church lounge\, 154 Brockley Grove\, London\, SE4 1EB\, United Kingdom
CATEGORIES:Meeting
ATTACH;FMTTYPE=image/jpeg:https://croftonpark.org.uk/wp-content/uploads/2019/09/Salt-and-Light.jpg
END:VEVENT
BEGIN:VEVENT
DTSTART;TZID=Europe/London:20260929T193000
DTEND;TZID=Europe/London:20260929T203000
DTSTAMP:20260422T031651
CREATED:20250323T111300Z
LAST-MODIFIED:20250323T111300Z
UID:10000598-1790710200-1790713800@croftonpark.org.uk
SUMMARY:Leadership Prayer Meeting
DESCRIPTION:There will be a Leadership Prayer Meeting on the last Tuesday of the month in the lounge at 7:30pm. At this time we take a break from discussing the “business of church” to take time to meditate\, pray and listen to the Word of God.
URL:https://croftonpark.org.uk/event/leadership-prayer-meeting/2026-09-29/
LOCATION:Crofton Park Baptist Church\, 154 Brockley Grove\, London\, SE4 1EB\, United Kingdom
ORGANIZER;CN="Clement Oke":MAILTO:clement.oke@croftonpark.org.uk
END:VEVENT
BEGIN:VEVENT
DTSTART;TZID=Europe/London:20261007T193000
DTEND;TZID=Europe/London:20261007T210000
DTSTAMP:20260422T031651
CREATED:20240515T132203Z
LAST-MODIFIED:20240515T142847Z
UID:10000186-1791401400-1791406800@croftonpark.org.uk
SUMMARY:Bible study
DESCRIPTION:We meet every Wednesday evening in the church lounge for Bible study and fellowship. Except for the last Wednesday of the month when we gather for a prayer meeting. Please join us as we interrogate the scriptures and study the Word. All are welcome.
URL:https://croftonpark.org.uk/event/bible-study/2026-10-07/
LOCATION:Church lounge\, 154 Brockley Grove\, London\, SE4 1EB\, United Kingdom
CATEGORIES:Meeting
ATTACH;FMTTYPE=image/jpeg:https://croftonpark.org.uk/wp-content/uploads/2019/09/Salt-and-Light.jpg
END:VEVENT
BEGIN:VEVENT
DTSTART;TZID=Europe/London:20261010T103000
DTEND;TZID=Europe/London:20261010T120000
DTSTAMP:20260422T031651
CREATED:20240515T132444Z
LAST-MODIFIED:20250201T163453Z
UID:10000357-1791628200-1791633600@croftonpark.org.uk
SUMMARY:Monthly Saturday prayer meeting
DESCRIPTION:We meet in the lounge on the second Saturday of every month to prayer\, sing and meditate on scripture. Why not join us for a few hours of quiet fellowship in friendly company. We start at 10:30 and finish just before midday.
URL:https://croftonpark.org.uk/event/monthly-saturday-prayer-meeting/2026-10-10/
LOCATION:Crofton Park Baptist Church\, 154 Brockley Grove\, London\, SE4 1EB\, United Kingdom
CATEGORIES:Meeting
ORGANIZER;CN="Judith Seymour":MAILTO:judithseymour@hotmail.co.uk
END:VEVENT
BEGIN:VEVENT
DTSTART;TZID=Europe/London:20261014T193000
DTEND;TZID=Europe/London:20261014T210000
DTSTAMP:20260422T031651
CREATED:20240515T132203Z
LAST-MODIFIED:20240515T142847Z
UID:10000187-1792006200-1792011600@croftonpark.org.uk
SUMMARY:Bible study
DESCRIPTION:We meet every Wednesday evening in the church lounge for Bible study and fellowship. Except for the last Wednesday of the month when we gather for a prayer meeting. Please join us as we interrogate the scriptures and study the Word. All are welcome.
URL:https://croftonpark.org.uk/event/bible-study/2026-10-14/
LOCATION:Church lounge\, 154 Brockley Grove\, London\, SE4 1EB\, United Kingdom
CATEGORIES:Meeting
ATTACH;FMTTYPE=image/jpeg:https://croftonpark.org.uk/wp-content/uploads/2019/09/Salt-and-Light.jpg
END:VEVENT
BEGIN:VEVENT
DTSTART;TZID=Europe/London:20261021T193000
DTEND;TZID=Europe/London:20261021T210000
DTSTAMP:20260422T031651
CREATED:20240515T132203Z
LAST-MODIFIED:20240515T142847Z
UID:10000188-1792611000-1792616400@croftonpark.org.uk
SUMMARY:Bible study
DESCRIPTION:We meet every Wednesday evening in the church lounge for Bible study and fellowship. Except for the last Wednesday of the month when we gather for a prayer meeting. Please join us as we interrogate the scriptures and study the Word. All are welcome.
URL:https://croftonpark.org.uk/event/bible-study/2026-10-21/
LOCATION:Church lounge\, 154 Brockley Grove\, London\, SE4 1EB\, United Kingdom
CATEGORIES:Meeting
ATTACH;FMTTYPE=image/jpeg:https://croftonpark.org.uk/wp-content/uploads/2019/09/Salt-and-Light.jpg
END:VEVENT
BEGIN:VEVENT
DTSTART;TZID=Europe/London:20261027T193000
DTEND;TZID=Europe/London:20261027T203000
DTSTAMP:20260422T031651
CREATED:20250323T111300Z
LAST-MODIFIED:20250323T111300Z
UID:10000599-1793129400-1793133000@croftonpark.org.uk
SUMMARY:Leadership Prayer Meeting
DESCRIPTION:There will be a Leadership Prayer Meeting on the last Tuesday of the month in the lounge at 7:30pm. At this time we take a break from discussing the “business of church” to take time to meditate\, pray and listen to the Word of God.
URL:https://croftonpark.org.uk/event/leadership-prayer-meeting/2026-10-27/
LOCATION:Crofton Park Baptist Church\, 154 Brockley Grove\, London\, SE4 1EB\, United Kingdom
ORGANIZER;CN="Clement Oke":MAILTO:clement.oke@croftonpark.org.uk
END:VEVENT
BEGIN:VEVENT
DTSTART;TZID=Europe/London:20261104T193000
DTEND;TZID=Europe/London:20261104T210000
DTSTAMP:20260422T031651
CREATED:20240515T132203Z
LAST-MODIFIED:20240515T142847Z
UID:10000189-1793820600-1793826000@croftonpark.org.uk
SUMMARY:Bible study
DESCRIPTION:We meet every Wednesday evening in the church lounge for Bible study and fellowship. Except for the last Wednesday of the month when we gather for a prayer meeting. Please join us as we interrogate the scriptures and study the Word. All are welcome.
URL:https://croftonpark.org.uk/event/bible-study/2026-11-04/
LOCATION:Church lounge\, 154 Brockley Grove\, London\, SE4 1EB\, United Kingdom
CATEGORIES:Meeting
ATTACH;FMTTYPE=image/jpeg:https://croftonpark.org.uk/wp-content/uploads/2019/09/Salt-and-Light.jpg
END:VEVENT
BEGIN:VEVENT
DTSTART;TZID=Europe/London:20261111T193000
DTEND;TZID=Europe/London:20261111T210000
DTSTAMP:20260422T031651
CREATED:20240515T132203Z
LAST-MODIFIED:20240515T142847Z
UID:10000190-1794425400-1794430800@croftonpark.org.uk
SUMMARY:Bible study
DESCRIPTION:We meet every Wednesday evening in the church lounge for Bible study and fellowship. Except for the last Wednesday of the month when we gather for a prayer meeting. Please join us as we interrogate the scriptures and study the Word. All are welcome.
URL:https://croftonpark.org.uk/event/bible-study/2026-11-11/
LOCATION:Church lounge\, 154 Brockley Grove\, London\, SE4 1EB\, United Kingdom
CATEGORIES:Meeting
ATTACH;FMTTYPE=image/jpeg:https://croftonpark.org.uk/wp-content/uploads/2019/09/Salt-and-Light.jpg
END:VEVENT
BEGIN:VEVENT
DTSTART;TZID=Europe/London:20261114T103000
DTEND;TZID=Europe/London:20261114T120000
DTSTAMP:20260422T031651
CREATED:20240515T132444Z
LAST-MODIFIED:20250201T163453Z
UID:10000358-1794652200-1794657600@croftonpark.org.uk
SUMMARY:Monthly Saturday prayer meeting
DESCRIPTION:We meet in the lounge on the second Saturday of every month to prayer\, sing and meditate on scripture. Why not join us for a few hours of quiet fellowship in friendly company. We start at 10:30 and finish just before midday.
URL:https://croftonpark.org.uk/event/monthly-saturday-prayer-meeting/2026-11-14/
LOCATION:Crofton Park Baptist Church\, 154 Brockley Grove\, London\, SE4 1EB\, United Kingdom
CATEGORIES:Meeting
ORGANIZER;CN="Judith Seymour":MAILTO:judithseymour@hotmail.co.uk
END:VEVENT
BEGIN:VEVENT
DTSTART;TZID=Europe/London:20261118T193000
DTEND;TZID=Europe/London:20261118T210000
DTSTAMP:20260422T031651
CREATED:20240515T132203Z
LAST-MODIFIED:20240515T142847Z
UID:10000191-1795030200-1795035600@croftonpark.org.uk
SUMMARY:Bible study
DESCRIPTION:We meet every Wednesday evening in the church lounge for Bible study and fellowship. Except for the last Wednesday of the month when we gather for a prayer meeting. Please join us as we interrogate the scriptures and study the Word. All are welcome.
URL:https://croftonpark.org.uk/event/bible-study/2026-11-18/
LOCATION:Church lounge\, 154 Brockley Grove\, London\, SE4 1EB\, United Kingdom
CATEGORIES:Meeting
ATTACH;FMTTYPE=image/jpeg:https://croftonpark.org.uk/wp-content/uploads/2019/09/Salt-and-Light.jpg
END:VEVENT
BEGIN:VEVENT
DTSTART;TZID=Europe/London:20261124T193000
DTEND;TZID=Europe/London:20261124T203000
DTSTAMP:20260422T031651
CREATED:20250323T111300Z
LAST-MODIFIED:20250323T111300Z
UID:10000600-1795548600-1795552200@croftonpark.org.uk
SUMMARY:Leadership Prayer Meeting
DESCRIPTION:There will be a Leadership Prayer Meeting on the last Tuesday of the month in the lounge at 7:30pm. At this time we take a break from discussing the “business of church” to take time to meditate\, pray and listen to the Word of God.
URL:https://croftonpark.org.uk/event/leadership-prayer-meeting/2026-11-24/
LOCATION:Crofton Park Baptist Church\, 154 Brockley Grove\, London\, SE4 1EB\, United Kingdom
ORGANIZER;CN="Clement Oke":MAILTO:clement.oke@croftonpark.org.uk
END:VEVENT
BEGIN:VEVENT
DTSTART;TZID=Europe/London:20261202T193000
DTEND;TZID=Europe/London:20261202T210000
DTSTAMP:20260422T031651
CREATED:20240515T132203Z
LAST-MODIFIED:20240515T142847Z
UID:10000192-1796239800-1796245200@croftonpark.org.uk
SUMMARY:Bible study
DESCRIPTION:We meet every Wednesday evening in the church lounge for Bible study and fellowship. Except for the last Wednesday of the month when we gather for a prayer meeting. Please join us as we interrogate the scriptures and study the Word. All are welcome.
URL:https://croftonpark.org.uk/event/bible-study/2026-12-02/
LOCATION:Church lounge\, 154 Brockley Grove\, London\, SE4 1EB\, United Kingdom
CATEGORIES:Meeting
ATTACH;FMTTYPE=image/jpeg:https://croftonpark.org.uk/wp-content/uploads/2019/09/Salt-and-Light.jpg
END:VEVENT
BEGIN:VEVENT
DTSTART;TZID=Europe/London:20261209T193000
DTEND;TZID=Europe/London:20261209T210000
DTSTAMP:20260422T031651
CREATED:20240515T132203Z
LAST-MODIFIED:20240515T142847Z
UID:10000193-1796844600-1796850000@croftonpark.org.uk
SUMMARY:Bible study
DESCRIPTION:We meet every Wednesday evening in the church lounge for Bible study and fellowship. Except for the last Wednesday of the month when we gather for a prayer meeting. Please join us as we interrogate the scriptures and study the Word. All are welcome.
URL:https://croftonpark.org.uk/event/bible-study/2026-12-09/
LOCATION:Church lounge\, 154 Brockley Grove\, London\, SE4 1EB\, United Kingdom
CATEGORIES:Meeting
ATTACH;FMTTYPE=image/jpeg:https://croftonpark.org.uk/wp-content/uploads/2019/09/Salt-and-Light.jpg
END:VEVENT
BEGIN:VEVENT
DTSTART;TZID=Europe/London:20261212T103000
DTEND;TZID=Europe/London:20261212T120000
DTSTAMP:20260422T031651
CREATED:20240515T132444Z
LAST-MODIFIED:20250201T163453Z
UID:10000359-1797071400-1797076800@croftonpark.org.uk
SUMMARY:Monthly Saturday prayer meeting
DESCRIPTION:We meet in the lounge on the second Saturday of every month to prayer\, sing and meditate on scripture. Why not join us for a few hours of quiet fellowship in friendly company. We start at 10:30 and finish just before midday.
URL:https://croftonpark.org.uk/event/monthly-saturday-prayer-meeting/2026-12-12/
LOCATION:Crofton Park Baptist Church\, 154 Brockley Grove\, London\, SE4 1EB\, United Kingdom
CATEGORIES:Meeting
ORGANIZER;CN="Judith Seymour":MAILTO:judithseymour@hotmail.co.uk
END:VEVENT
BEGIN:VEVENT
DTSTART;TZID=Europe/London:20261216T193000
DTEND;TZID=Europe/London:20261216T210000
DTSTAMP:20260422T031651
CREATED:20240515T132203Z
LAST-MODIFIED:20240515T142847Z
UID:10000194-1797449400-1797454800@croftonpark.org.uk
SUMMARY:Bible study
DESCRIPTION:We meet every Wednesday evening in the church lounge for Bible study and fellowship. Except for the last Wednesday of the month when we gather for a prayer meeting. Please join us as we interrogate the scriptures and study the Word. All are welcome.
URL:https://croftonpark.org.uk/event/bible-study/2026-12-16/
LOCATION:Church lounge\, 154 Brockley Grove\, London\, SE4 1EB\, United Kingdom
CATEGORIES:Meeting
ATTACH;FMTTYPE=image/jpeg:https://croftonpark.org.uk/wp-content/uploads/2019/09/Salt-and-Light.jpg
END:VEVENT
BEGIN:VEVENT
DTSTART;TZID=Europe/London:20261223T193000
DTEND;TZID=Europe/London:20261223T210000
DTSTAMP:20260422T031651
CREATED:20240515T132203Z
LAST-MODIFIED:20240515T142847Z
UID:10000195-1798054200-1798059600@croftonpark.org.uk
SUMMARY:Bible study
DESCRIPTION:We meet every Wednesday evening in the church lounge for Bible study and fellowship. Except for the last Wednesday of the month when we gather for a prayer meeting. Please join us as we interrogate the scriptures and study the Word. All are welcome.
URL:https://croftonpark.org.uk/event/bible-study/2026-12-23/
LOCATION:Church lounge\, 154 Brockley Grove\, London\, SE4 1EB\, United Kingdom
CATEGORIES:Meeting
ATTACH;FMTTYPE=image/jpeg:https://croftonpark.org.uk/wp-content/uploads/2019/09/Salt-and-Light.jpg
END:VEVENT
BEGIN:VEVENT
DTSTART;TZID=Europe/London:20261229T193000
DTEND;TZID=Europe/London:20261229T203000
DTSTAMP:20260422T031651
CREATED:20250323T111300Z
LAST-MODIFIED:20250323T111300Z
UID:10000601-1798572600-1798576200@croftonpark.org.uk
SUMMARY:Leadership Prayer Meeting
DESCRIPTION:There will be a Leadership Prayer Meeting on the last Tuesday of the month in the lounge at 7:30pm. At this time we take a break from discussing the “business of church” to take time to meditate\, pray and listen to the Word of God.
URL:https://croftonpark.org.uk/event/leadership-prayer-meeting/2026-12-29/
LOCATION:Crofton Park Baptist Church\, 154 Brockley Grove\, London\, SE4 1EB\, United Kingdom
ORGANIZER;CN="Clement Oke":MAILTO:clement.oke@croftonpark.org.uk
END:VEVENT
BEGIN:VEVENT
DTSTART;TZID=Europe/London:20270106T193000
DTEND;TZID=Europe/London:20270106T210000
DTSTAMP:20260422T031651
CREATED:20240515T132203Z
LAST-MODIFIED:20240515T142847Z
UID:10000196-1799263800-1799269200@croftonpark.org.uk
SUMMARY:Bible study
DESCRIPTION:We meet every Wednesday evening in the church lounge for Bible study and fellowship. Except for the last Wednesday of the month when we gather for a prayer meeting. Please join us as we interrogate the scriptures and study the Word. All are welcome.
URL:https://croftonpark.org.uk/event/bible-study/2027-01-06/
LOCATION:Church lounge\, 154 Brockley Grove\, London\, SE4 1EB\, United Kingdom
CATEGORIES:Meeting
ATTACH;FMTTYPE=image/jpeg:https://croftonpark.org.uk/wp-content/uploads/2019/09/Salt-and-Light.jpg
END:VEVENT
BEGIN:VEVENT
DTSTART;TZID=Europe/London:20270109T103000
DTEND;TZID=Europe/London:20270109T120000
DTSTAMP:20260422T031651
CREATED:20240515T132444Z
LAST-MODIFIED:20250201T163453Z
UID:10000360-1799490600-1799496000@croftonpark.org.uk
SUMMARY:Monthly Saturday prayer meeting
DESCRIPTION:We meet in the lounge on the second Saturday of every month to prayer\, sing and meditate on scripture. Why not join us for a few hours of quiet fellowship in friendly company. We start at 10:30 and finish just before midday.
URL:https://croftonpark.org.uk/event/monthly-saturday-prayer-meeting/2027-01-09/
LOCATION:Crofton Park Baptist Church\, 154 Brockley Grove\, London\, SE4 1EB\, United Kingdom
CATEGORIES:Meeting
ORGANIZER;CN="Judith Seymour":MAILTO:judithseymour@hotmail.co.uk
END:VEVENT
END:VCALENDAR