BEGIN:VCALENDAR
VERSION:2.0
PRODID:-//Crofton Park Baptist Church - ECPv6.15.20//NONSGML v1.0//EN
CALSCALE:GREGORIAN
METHOD:PUBLISH
X-WR-CALNAME:Crofton Park Baptist Church
X-ORIGINAL-URL:https://croftonpark.org.uk
X-WR-CALDESC:Events for Crofton Park Baptist Church
REFRESH-INTERVAL;VALUE=DURATION:PT1H
X-Robots-Tag:noindex
X-PUBLISHED-TTL:PT1H
BEGIN:VTIMEZONE
TZID:Europe/London
BEGIN:DAYLIGHT
TZOFFSETFROM:+0000
TZOFFSETTO:+0100
TZNAME:BST
DTSTART:20230326T010000
END:DAYLIGHT
BEGIN:STANDARD
TZOFFSETFROM:+0100
TZOFFSETTO:+0000
TZNAME:GMT
DTSTART:20231029T010000
END:STANDARD
BEGIN:DAYLIGHT
TZOFFSETFROM:+0000
TZOFFSETTO:+0100
TZNAME:BST
DTSTART:20240331T010000
END:DAYLIGHT
BEGIN:STANDARD
TZOFFSETFROM:+0100
TZOFFSETTO:+0000
TZNAME:GMT
DTSTART:20241027T010000
END:STANDARD
BEGIN:DAYLIGHT
TZOFFSETFROM:+0000
TZOFFSETTO:+0100
TZNAME:BST
DTSTART:20250330T010000
END:DAYLIGHT
BEGIN:STANDARD
TZOFFSETFROM:+0100
TZOFFSETTO:+0000
TZNAME:GMT
DTSTART:20251026T010000
END:STANDARD
END:VTIMEZONE
BEGIN:VEVENT
DTSTART;TZID=Europe/London:20240131T193000
DTEND;TZID=Europe/London:20240131T210000
DTSTAMP:20260421T111438
CREATED:20240106T102942Z
LAST-MODIFIED:20240106T103745Z
UID:10000013-1706729400-1706734800@croftonpark.org.uk
SUMMARY:Wednesday prayer meeting
DESCRIPTION:​Join us every last Wednesday of the month to meet in prayer. If you find Your weekends are too busy to meet up\, this is a perfect midweek break to mee\, pray and commune with the church family praying together for God’s will\, healing and peace. \nSpeak to Mike Lovejoy or Fran Bellingham for more information.
URL:https://croftonpark.org.uk/event/wednesday-prayer-meeting/
CATEGORIES:Meeting
ATTACH;FMTTYPE=image/jpeg:https://croftonpark.org.uk/wp-content/uploads/2022/06/b3b62a87-3f38-4911-937a-6d301cc8661f.jpeg
END:VEVENT
END:VCALENDAR